BEGIN:VCALENDAR
VERSION:2.0
PRODID:-//Cuda Ridge Wines - ECPv6.15.14//NONSGML v1.0//EN
CALSCALE:GREGORIAN
METHOD:PUBLISH
X-WR-CALNAME:Cuda Ridge Wines
X-ORIGINAL-URL:https://cudaridgewines.com
X-WR-CALDESC:Events for Cuda Ridge Wines
REFRESH-INTERVAL;VALUE=DURATION:PT1H
X-Robots-Tag:noindex
X-PUBLISHED-TTL:PT1H
BEGIN:VTIMEZONE
TZID:America/Los_Angeles
BEGIN:DAYLIGHT
TZOFFSETFROM:-0800
TZOFFSETTO:-0700
TZNAME:PDT
DTSTART:20250309T100000
END:DAYLIGHT
BEGIN:STANDARD
TZOFFSETFROM:-0700
TZOFFSETTO:-0800
TZNAME:PST
DTSTART:20251102T090000
END:STANDARD
BEGIN:DAYLIGHT
TZOFFSETFROM:-0800
TZOFFSETTO:-0700
TZNAME:PDT
DTSTART:20260308T100000
END:DAYLIGHT
BEGIN:STANDARD
TZOFFSETFROM:-0700
TZOFFSETTO:-0800
TZNAME:PST
DTSTART:20261101T090000
END:STANDARD
BEGIN:DAYLIGHT
TZOFFSETFROM:-0800
TZOFFSETTO:-0700
TZNAME:PDT
DTSTART:20270314T100000
END:DAYLIGHT
BEGIN:STANDARD
TZOFFSETFROM:-0700
TZOFFSETTO:-0800
TZNAME:PST
DTSTART:20271107T090000
END:STANDARD
END:VTIMEZONE
BEGIN:VEVENT
DTSTART;TZID=America/Los_Angeles:20260215T120000
DTEND;TZID=America/Los_Angeles:20260215T163000
DTSTAMP:20260419T173044
CREATED:20251231T011617Z
LAST-MODIFIED:20260113T210008Z
UID:9495-1771156800-1771173000@cudaridgewines.com
SUMMARY:19th Annual Wines\, Vines and Valentines
DESCRIPTION:Livermore’s sexiest wine is back! Join us for our 19th Annual Wines\, Vines\, & Valentines with the release of our 2023 S&M– a blend of 67% Sangiovese and 33% Malbec. The S&M will be featured on our desire flight alongside four other award-winning wines.  Check out the Red Room for a memorable picture opportunity! \nDesire Tasting Flight\n2023 S&M\n2022 Cabernet Franc\n2023 Merlot\n2019 Malbec\n2021 Black Label Cabernet Sauvignon \nTasting Flight:  $25\, refundable with 2 bottle purchase\nComplimentary to Cuda Cadre Club Members (Up to 4 in party) \nFood Vendors: \nTBD\nCampbell Bakeshop – Specialty Goodies \nCLICK HERE TO RSVP
URL:https://cudaridgewines.com/event/19th-annual-wines-vines-and-valentines-2/
CATEGORIES:Winery Events
END:VEVENT
BEGIN:VEVENT
DTSTART;TZID=America/Los_Angeles:20260424T170000
DTEND;TZID=America/Los_Angeles:20260424T193000
DTSTAMP:20260419T173044
CREATED:20260307T013420Z
LAST-MODIFIED:20260307T192608Z
UID:9728-1777050000-1777059000@cudaridgewines.com
SUMMARY:Music on the Vineyard Patio with Michelle Lambert
DESCRIPTION:Mark your calendar for Friday\, April 24th as we welcome the talented Michelle Lambert to our vineyard patio! \nMichelle is a dynamic Pop/Folk singer-songwriter from Mendocino County who has toured internationally\, captivating audiences with her vibrant performances. A lifelong musician\, she began studying violin at the age of 2 and vocals at age 5\, bringing both passion and artistry to every stage she graces. \nCome enjoy an evening of great music\, wine\, and summer vibes—we look forward to seeing you there! \nFood Vendor:\nJulie Anne Catering\n(Please\, no outside food.) \nRSVP HERE \nTickets: $10\nPrice included taxes and fees
URL:https://cudaridgewines.com/event/music-on-the-vineyard-patio-with-michelle-lambert-2/
CATEGORIES:Winery Events
END:VEVENT
END:VCALENDAR