BEGIN:VCALENDAR
VERSION:2.0
PRODID:-//Cuda Ridge Wines - ECPv6.15.14//NONSGML v1.0//EN
CALSCALE:GREGORIAN
METHOD:PUBLISH
X-ORIGINAL-URL:https://cudaridgewines.com
X-WR-CALDESC:Events for Cuda Ridge Wines
REFRESH-INTERVAL;VALUE=DURATION:PT1H
X-Robots-Tag:noindex
X-PUBLISHED-TTL:PT1H
BEGIN:VTIMEZONE
TZID:America/Los_Angeles
BEGIN:DAYLIGHT
TZOFFSETFROM:-0800
TZOFFSETTO:-0700
TZNAME:PDT
DTSTART:20230312T100000
END:DAYLIGHT
BEGIN:STANDARD
TZOFFSETFROM:-0700
TZOFFSETTO:-0800
TZNAME:PST
DTSTART:20231105T090000
END:STANDARD
BEGIN:DAYLIGHT
TZOFFSETFROM:-0800
TZOFFSETTO:-0700
TZNAME:PDT
DTSTART:20240310T100000
END:DAYLIGHT
BEGIN:STANDARD
TZOFFSETFROM:-0700
TZOFFSETTO:-0800
TZNAME:PST
DTSTART:20241103T090000
END:STANDARD
BEGIN:DAYLIGHT
TZOFFSETFROM:-0800
TZOFFSETTO:-0700
TZNAME:PDT
DTSTART:20250309T100000
END:DAYLIGHT
BEGIN:STANDARD
TZOFFSETFROM:-0700
TZOFFSETTO:-0800
TZNAME:PST
DTSTART:20251102T090000
END:STANDARD
END:VTIMEZONE
BEGIN:VEVENT
DTSTART;TZID=America/Los_Angeles:20240426T170000
DTEND;TZID=America/Los_Angeles:20240426T193000
DTSTAMP:20260421T033002
CREATED:20220607T222650Z
LAST-MODIFIED:20240405T004535Z
UID:5631-1714150800-1714159800@cudaridgewines.com
SUMMARY:Music on the Vineyard Patio with Carman Hammond
DESCRIPTION:Join us for our first Music on the Vineyard Patio of 2024 with live music from the Carman Hammond on Friday\, April 26th from 5:00 pm – 7:30 pm. \nCarman is a local\, passionate musician who performs a unique and wide variety of genres from the 50s to the present. \nWe have a limited number of tables that seat 6 guests comfortably. \nFood Truck:\nMego Kitchen\nPlease no outside food\, to support our food vendor. \nThere is no cover charge\, just a two-bottle minimum requirement per table for this event. \n\nCLICK HERE FOR RESERVATIONS \n\n\
URL:https://cudaridgewines.com/event/music-on-the-vineyard-patio-4/
CATEGORIES:Winery Events
END:VEVENT
END:VCALENDAR