BEGIN:VCALENDAR
VERSION:2.0
PRODID:-//Cuda Ridge Wines - ECPv6.15.14//NONSGML v1.0//EN
CALSCALE:GREGORIAN
METHOD:PUBLISH
X-WR-CALNAME:Cuda Ridge Wines
X-ORIGINAL-URL:https://cudaridgewines.com
X-WR-CALDESC:Events for Cuda Ridge Wines
REFRESH-INTERVAL;VALUE=DURATION:PT1H
X-Robots-Tag:noindex
X-PUBLISHED-TTL:PT1H
BEGIN:VTIMEZONE
TZID:America/Los_Angeles
BEGIN:DAYLIGHT
TZOFFSETFROM:-0800
TZOFFSETTO:-0700
TZNAME:PDT
DTSTART:20230312T100000
END:DAYLIGHT
BEGIN:STANDARD
TZOFFSETFROM:-0700
TZOFFSETTO:-0800
TZNAME:PST
DTSTART:20231105T090000
END:STANDARD
BEGIN:DAYLIGHT
TZOFFSETFROM:-0800
TZOFFSETTO:-0700
TZNAME:PDT
DTSTART:20240310T100000
END:DAYLIGHT
BEGIN:STANDARD
TZOFFSETFROM:-0700
TZOFFSETTO:-0800
TZNAME:PST
DTSTART:20241103T090000
END:STANDARD
BEGIN:DAYLIGHT
TZOFFSETFROM:-0800
TZOFFSETTO:-0700
TZNAME:PDT
DTSTART:20250309T100000
END:DAYLIGHT
BEGIN:STANDARD
TZOFFSETFROM:-0700
TZOFFSETTO:-0800
TZNAME:PST
DTSTART:20251102T090000
END:STANDARD
END:VTIMEZONE
BEGIN:VEVENT
DTSTART;TZID=America/Los_Angeles:20240315T160000
DTEND;TZID=America/Los_Angeles:20240315T190000
DTSTAMP:20260419T051033
CREATED:20240305T151124Z
LAST-MODIFIED:20240305T151124Z
UID:7748-1710518400-1710529200@cudaridgewines.com
SUMMARY:Spring Sipping for the Symphony
DESCRIPTION:On Friday\, March 15th\, from 4:00 – 7:00 PM\, we will be hosting a fundraiser for the Livermore-Amador Symphony. Sip\, enjoy live music\, and have a small bite. There is a $25 tasting fee for all attendees. 50% of the tasting fee and 10% of the wine sales proceeds will be donated to the Livermore-Amador Symphony. This includes live music\, snacks\, and gift baskets for the lucky winners — all in an effort to raise money to support your local symphony and volunteer musicians.  \nMusic \n“The “Jammies” is a local 5-piece instrumental group playing an eclectic mix of classical\, Celtic\, and Latin music for your enjoyment!”  \nThis is a drop-in event\, Reservations are not needed
URL:https://cudaridgewines.com/event/spring-sipping-for-the-symphony/
CATEGORIES:Winery Events
END:VEVENT
END:VCALENDAR