BEGIN:VCALENDAR
VERSION:2.0
PRODID:-//Cuda Ridge Wines - ECPv6.15.14//NONSGML v1.0//EN
CALSCALE:GREGORIAN
METHOD:PUBLISH
X-ORIGINAL-URL:https://cudaridgewines.com
X-WR-CALDESC:Events for Cuda Ridge Wines
REFRESH-INTERVAL;VALUE=DURATION:PT1H
X-Robots-Tag:noindex
X-PUBLISHED-TTL:PT1H
BEGIN:VTIMEZONE
TZID:America/Los_Angeles
BEGIN:DAYLIGHT
TZOFFSETFROM:-0800
TZOFFSETTO:-0700
TZNAME:PDT
DTSTART:20230312T100000
END:DAYLIGHT
BEGIN:STANDARD
TZOFFSETFROM:-0700
TZOFFSETTO:-0800
TZNAME:PST
DTSTART:20231105T090000
END:STANDARD
BEGIN:DAYLIGHT
TZOFFSETFROM:-0800
TZOFFSETTO:-0700
TZNAME:PDT
DTSTART:20240310T100000
END:DAYLIGHT
BEGIN:STANDARD
TZOFFSETFROM:-0700
TZOFFSETTO:-0800
TZNAME:PST
DTSTART:20241103T090000
END:STANDARD
BEGIN:DAYLIGHT
TZOFFSETFROM:-0800
TZOFFSETTO:-0700
TZNAME:PDT
DTSTART:20250309T100000
END:DAYLIGHT
BEGIN:STANDARD
TZOFFSETFROM:-0700
TZOFFSETTO:-0800
TZNAME:PST
DTSTART:20251102T090000
END:STANDARD
END:VTIMEZONE
BEGIN:VEVENT
DTSTART;TZID=America/Los_Angeles:20240219T120000
DTEND;TZID=America/Los_Angeles:20240219T163000
DTSTAMP:20260419T062257
CREATED:20221219T001228Z
LAST-MODIFIED:20240204T161323Z
UID:6280-1708344000-1708360200@cudaridgewines.com
SUMMARY:LunaFish President's Day Acoustic Jam
DESCRIPTION:Join us on Monday\, February 20th for an extraordinary Acoustic Jam with LunaFish. We will have two sessions\, the first from 12:00 pm- 2:00 pm and the second from 2:30 pm – 4:30 pm. If you plan on staying for both sets\, RSVP to both the 12:00 pm session and the 2:30 pm session. \nMego Kitchen will also serve up its cultural comfort cuisine at the winery. Please no outside food in support of our food vendor. \nThere is no cover charge\, 2-bottle minimum per table per session. \nCLICK HERE FOR RESERVATIONS  \nWalk-ins are accepted if space permits. \n 
URL:https://cudaridgewines.com/event/open-for-wine-tasting-206/
CATEGORIES:Winery Events
END:VEVENT
END:VCALENDAR