BEGIN:VCALENDAR
VERSION:2.0
PRODID:-//Cuda Ridge Wines - ECPv6.15.14//NONSGML v1.0//EN
CALSCALE:GREGORIAN
METHOD:PUBLISH
X-WR-CALNAME:Cuda Ridge Wines
X-ORIGINAL-URL:https://cudaridgewines.com
X-WR-CALDESC:Events for Cuda Ridge Wines
REFRESH-INTERVAL;VALUE=DURATION:PT1H
X-Robots-Tag:noindex
X-PUBLISHED-TTL:PT1H
BEGIN:VTIMEZONE
TZID:America/Los_Angeles
BEGIN:DAYLIGHT
TZOFFSETFROM:-0800
TZOFFSETTO:-0700
TZNAME:PDT
DTSTART:20230312T100000
END:DAYLIGHT
BEGIN:STANDARD
TZOFFSETFROM:-0700
TZOFFSETTO:-0800
TZNAME:PST
DTSTART:20231105T090000
END:STANDARD
BEGIN:DAYLIGHT
TZOFFSETFROM:-0800
TZOFFSETTO:-0700
TZNAME:PDT
DTSTART:20240310T100000
END:DAYLIGHT
BEGIN:STANDARD
TZOFFSETFROM:-0700
TZOFFSETTO:-0800
TZNAME:PST
DTSTART:20241103T090000
END:STANDARD
BEGIN:DAYLIGHT
TZOFFSETFROM:-0800
TZOFFSETTO:-0700
TZNAME:PDT
DTSTART:20250309T100000
END:DAYLIGHT
BEGIN:STANDARD
TZOFFSETFROM:-0700
TZOFFSETTO:-0800
TZNAME:PST
DTSTART:20251102T090000
END:STANDARD
END:VTIMEZONE
BEGIN:VEVENT
DTSTART;TZID=America/Los_Angeles:20240214T180000
DTEND;TZID=America/Los_Angeles:20240214T210000
DTSTAMP:20260419T062134
CREATED:20221215T214415Z
LAST-MODIFIED:20240112T215508Z
UID:6187-1707933600-1707944400@cudaridgewines.com
SUMMARY:Valentine's Winemaker Dinner at Purple Orchid Resort and Spa
DESCRIPTION:Purple Orchid Resort and Spa\, On the Vine Catering\, and Cuda Ridge Wines\, have partnered to create a unique dining experience scheduled for Valentine’s evening\, February 14th. The five-course dinner will be paired with four award-winning Cuda Ridge wines. The welcome reception starts at 6:00 pm with dinner to follow from 6:30 pm – 9:00 pm. \n$150 per person + Tax (Gratuity included)\nStay & Dine Packages starting at $539\nContact Purple Orchid Resort & Spa for reservations\n(925) 606-8855 \nMore details including the menu to come! Join our newsletter to get the latest information!\nJOIN HERE \n  \n 
URL:https://cudaridgewines.com/event/valentines-winemaker-dinner-at-purple-orchid-resort-and-spa/
CATEGORIES:Winery Events
END:VEVENT
END:VCALENDAR