BEGIN:VCALENDAR
VERSION:2.0
PRODID:-//Cuda Ridge Wines - ECPv6.15.14//NONSGML v1.0//EN
CALSCALE:GREGORIAN
METHOD:PUBLISH
X-WR-CALNAME:Cuda Ridge Wines
X-ORIGINAL-URL:https://cudaridgewines.com
X-WR-CALDESC:Events for Cuda Ridge Wines
REFRESH-INTERVAL;VALUE=DURATION:PT1H
X-Robots-Tag:noindex
X-PUBLISHED-TTL:PT1H
BEGIN:VTIMEZONE
TZID:America/Los_Angeles
BEGIN:DAYLIGHT
TZOFFSETFROM:-0800
TZOFFSETTO:-0700
TZNAME:PDT
DTSTART:20230312T100000
END:DAYLIGHT
BEGIN:STANDARD
TZOFFSETFROM:-0700
TZOFFSETTO:-0800
TZNAME:PST
DTSTART:20231105T090000
END:STANDARD
BEGIN:DAYLIGHT
TZOFFSETFROM:-0800
TZOFFSETTO:-0700
TZNAME:PDT
DTSTART:20240310T100000
END:DAYLIGHT
BEGIN:STANDARD
TZOFFSETFROM:-0700
TZOFFSETTO:-0800
TZNAME:PST
DTSTART:20241103T090000
END:STANDARD
BEGIN:DAYLIGHT
TZOFFSETFROM:-0800
TZOFFSETTO:-0700
TZNAME:PDT
DTSTART:20250309T100000
END:DAYLIGHT
BEGIN:STANDARD
TZOFFSETFROM:-0700
TZOFFSETTO:-0800
TZNAME:PST
DTSTART:20251102T090000
END:STANDARD
END:VTIMEZONE
BEGIN:VEVENT
DTSTART;TZID=America/Los_Angeles:20240204T120000
DTEND;TZID=America/Los_Angeles:20240204T163000
DTSTAMP:20260419T061958
CREATED:20231228T230413Z
LAST-MODIFIED:20240117T171412Z
UID:7489-1707048000-1707064200@cudaridgewines.com
SUMMARY:17th Annual Wines\, Vines and Valentines
DESCRIPTION:Celebrate the month of love and the release of the 2021 S&M – a blend of Sangiovese and Malbec at Cuda Ridge with our Desire Tasting Flight. Our new release 2021 S&M will be poured\, along with four other award-winning wines. Decedent Bluebirds chocolate will be available for purchase to pair with the fives-wines on the flight. \nThere will be food trucks on both days: \nSunday (2/4) – New Tradition Kitchen \nSaturday (2/10) – Marty’s Joint. \nThe 2021 S&M will be released for preorder beginning on Monday\, January 31st. \nCLICK HERE FOR RESERVATIONS \n\Walk-ins are welcome as long as space permits. \n  \n\n 
URL:https://cudaridgewines.com/event/16th-annual-wines-vines-and-valentines-2/
CATEGORIES:Winery Events
END:VEVENT
END:VCALENDAR