BEGIN:VCALENDAR
VERSION:2.0
PRODID:-//Cuda Ridge Wines - ECPv6.15.14//NONSGML v1.0//EN
CALSCALE:GREGORIAN
METHOD:PUBLISH
X-WR-CALNAME:Cuda Ridge Wines
X-ORIGINAL-URL:https://cudaridgewines.com
X-WR-CALDESC:Events for Cuda Ridge Wines
REFRESH-INTERVAL;VALUE=DURATION:PT1H
X-Robots-Tag:noindex
X-PUBLISHED-TTL:PT1H
BEGIN:VTIMEZONE
TZID:America/Los_Angeles
BEGIN:DAYLIGHT
TZOFFSETFROM:-0800
TZOFFSETTO:-0700
TZNAME:PDT
DTSTART:20220313T100000
END:DAYLIGHT
BEGIN:STANDARD
TZOFFSETFROM:-0700
TZOFFSETTO:-0800
TZNAME:PST
DTSTART:20221106T090000
END:STANDARD
BEGIN:DAYLIGHT
TZOFFSETFROM:-0800
TZOFFSETTO:-0700
TZNAME:PDT
DTSTART:20230312T100000
END:DAYLIGHT
BEGIN:STANDARD
TZOFFSETFROM:-0700
TZOFFSETTO:-0800
TZNAME:PST
DTSTART:20231105T090000
END:STANDARD
BEGIN:DAYLIGHT
TZOFFSETFROM:-0800
TZOFFSETTO:-0700
TZNAME:PDT
DTSTART:20240310T100000
END:DAYLIGHT
BEGIN:STANDARD
TZOFFSETFROM:-0700
TZOFFSETTO:-0800
TZNAME:PST
DTSTART:20241103T090000
END:STANDARD
END:VTIMEZONE
BEGIN:VEVENT
DTSTART;TZID=America/Los_Angeles:20231019T180000
DTEND;TZID=America/Los_Angeles:20231019T200000
DTSTAMP:20260419T124336
CREATED:20230929T202812Z
LAST-MODIFIED:20230929T202812Z
UID:7320-1697738400-1697745600@cudaridgewines.com
SUMMARY:TASTE: The Livermore Valley Wine Experience
DESCRIPTION:Livermore Valley’s premier food and wine affair spans four delectable days. Thursday\, October 19th through Sunday\, October 22\, 2023. Thursday evening at the Bella Rosa Event Center at Garré Vineyard and Winery is Taste Our Terroir\, a Food and Wine pairing competition with a dessert bar with additional wineries. \nCuda Ridge Wines is paired with LB Steak. Chef Romero Miraflor brings twenty-plus years of experience in Bay Area Steak and Seafood restaurants. He’s excited to bring LB Steak to the Tri-Valley Area and to partner with Cuda Ridge and the other great wineries in the area. Larry Dino is the proprietor of Cuda Ridge Wines. Larry’s passion for winemaking started in 1999 when he produced his first barrel of wine. Larry brings out the unique character of his wines by using old-world methods to balance aromas and flavor from fruit that is grown exclusively in the Livermore Valley. \nCLICK HERE FOR TICKETS \n 
URL:https://cudaridgewines.com/event/taste-the-livermore-valley-wine-experience/
CATEGORIES:Winery Events
END:VEVENT
END:VCALENDAR