BEGIN:VCALENDAR
VERSION:2.0
PRODID:-//Cuda Ridge Wines - ECPv6.15.14//NONSGML v1.0//EN
CALSCALE:GREGORIAN
METHOD:PUBLISH
X-ORIGINAL-URL:https://cudaridgewines.com
X-WR-CALDESC:Events for Cuda Ridge Wines
REFRESH-INTERVAL;VALUE=DURATION:PT1H
X-Robots-Tag:noindex
X-PUBLISHED-TTL:PT1H
BEGIN:VTIMEZONE
TZID:America/Los_Angeles
BEGIN:DAYLIGHT
TZOFFSETFROM:-0800
TZOFFSETTO:-0700
TZNAME:PDT
DTSTART:20220313T100000
END:DAYLIGHT
BEGIN:STANDARD
TZOFFSETFROM:-0700
TZOFFSETTO:-0800
TZNAME:PST
DTSTART:20221106T090000
END:STANDARD
BEGIN:DAYLIGHT
TZOFFSETFROM:-0800
TZOFFSETTO:-0700
TZNAME:PDT
DTSTART:20230312T100000
END:DAYLIGHT
BEGIN:STANDARD
TZOFFSETFROM:-0700
TZOFFSETTO:-0800
TZNAME:PST
DTSTART:20231105T090000
END:STANDARD
BEGIN:DAYLIGHT
TZOFFSETFROM:-0800
TZOFFSETTO:-0700
TZNAME:PDT
DTSTART:20240310T100000
END:DAYLIGHT
BEGIN:STANDARD
TZOFFSETFROM:-0700
TZOFFSETTO:-0800
TZNAME:PST
DTSTART:20241103T090000
END:STANDARD
END:VTIMEZONE
BEGIN:VEVENT
DTSTART;TZID=America/Los_Angeles:20230829T183000
DTEND;TZID=America/Los_Angeles:20230829T203000
DTSTAMP:20260419T144159
CREATED:20230811T040354Z
LAST-MODIFIED:20230811T163150Z
UID:7082-1693333800-1693341000@cudaridgewines.com
SUMMARY:Locanda Wine Bar Winemaker Dinner
DESCRIPTION:Join us as we partner with Locanda Wine Bar as we enjoy an August Evening Underneath the Stars!  This is a five-course dinner paired with Cuda Ridge Wines. The cost for the dinner is $137.00 per person + tax. We are looking forward to this special event! \nCLICK HERE FOR RESERVATIONS \nPairing Menu
URL:https://cudaridgewines.com/event/locanda-wine-bar-winemaker-dinner-2/
CATEGORIES:Winery Events
END:VEVENT
END:VCALENDAR