BEGIN:VCALENDAR
VERSION:2.0
PRODID:-//Cuda Ridge Wines - ECPv6.15.14//NONSGML v1.0//EN
CALSCALE:GREGORIAN
METHOD:PUBLISH
X-ORIGINAL-URL:https://cudaridgewines.com
X-WR-CALDESC:Events for Cuda Ridge Wines
REFRESH-INTERVAL;VALUE=DURATION:PT1H
X-Robots-Tag:noindex
X-PUBLISHED-TTL:PT1H
BEGIN:VTIMEZONE
TZID:America/Los_Angeles
BEGIN:DAYLIGHT
TZOFFSETFROM:-0800
TZOFFSETTO:-0700
TZNAME:PDT
DTSTART:20220313T100000
END:DAYLIGHT
BEGIN:STANDARD
TZOFFSETFROM:-0700
TZOFFSETTO:-0800
TZNAME:PST
DTSTART:20221106T090000
END:STANDARD
BEGIN:DAYLIGHT
TZOFFSETFROM:-0800
TZOFFSETTO:-0700
TZNAME:PDT
DTSTART:20230312T100000
END:DAYLIGHT
BEGIN:STANDARD
TZOFFSETFROM:-0700
TZOFFSETTO:-0800
TZNAME:PST
DTSTART:20231105T090000
END:STANDARD
BEGIN:DAYLIGHT
TZOFFSETFROM:-0800
TZOFFSETTO:-0700
TZNAME:PDT
DTSTART:20240310T100000
END:DAYLIGHT
BEGIN:STANDARD
TZOFFSETFROM:-0700
TZOFFSETTO:-0800
TZNAME:PST
DTSTART:20241103T090000
END:STANDARD
END:VTIMEZONE
BEGIN:VEVENT
DTSTART;TZID=America/Los_Angeles:20230826T120000
DTEND;TZID=America/Los_Angeles:20230826T163000
DTSTAMP:20260419T161517
CREATED:20230816T182512Z
LAST-MODIFIED:20230822T182542Z
UID:7098-1693051200-1693067400@cudaridgewines.com
SUMMARY:15th Anniversary Party
DESCRIPTION:2023 marks our 15th anniversary as a commercial winery! No matter when you started drinking Cuda\, we appreciate you more than words can express! A great milestone like this calls for a celebration!\nYou’re invited to join us for our 15-Year Anniversary Party on Saturday\, August 26th from 12:00 pm – 4:30 pm. This is an open house-style event where you can drop in anytime. \nTickets include:\n• A Commemorative Wine Glass\n• Tasting three award-winning wines | 2021 Franc\, 2017 Cabernet Sauvignon\, and 2019 Bien Aime.\n• Special mix & match case discounts for club members (25% off for CRU Members\, 30% off for Connoisseur Members)\n• Winemaker\, Larry Dino and Wine Boss\, Margie Dino available to sign bottles\n• Food available for purchase by The Fusion Food Club (Food Truck)\n• Music by Maddy Hudson\n• Pop-up shop from Main Street Designs \nWines will be available for purchase by bottle or glass. Tables are available on a first-come first-serve basis. \nAdmission tickets are available here for $20 per person and $10 for club members. If you are a wine club member call (510) 304 – 0914 for a discount code! \n 
URL:https://cudaridgewines.com/event/15th-anniversary-party/
CATEGORIES:Winery Events
END:VEVENT
END:VCALENDAR