BEGIN:VCALENDAR
VERSION:2.0
PRODID:-//Cuda Ridge Wines - ECPv6.15.14//NONSGML v1.0//EN
CALSCALE:GREGORIAN
METHOD:PUBLISH
X-WR-CALNAME:Cuda Ridge Wines
X-ORIGINAL-URL:https://cudaridgewines.com
X-WR-CALDESC:Events for Cuda Ridge Wines
REFRESH-INTERVAL;VALUE=DURATION:PT1H
X-Robots-Tag:noindex
X-PUBLISHED-TTL:PT1H
BEGIN:VTIMEZONE
TZID:America/Los_Angeles
BEGIN:DAYLIGHT
TZOFFSETFROM:-0800
TZOFFSETTO:-0700
TZNAME:PDT
DTSTART:20220313T100000
END:DAYLIGHT
BEGIN:STANDARD
TZOFFSETFROM:-0700
TZOFFSETTO:-0800
TZNAME:PST
DTSTART:20221106T090000
END:STANDARD
BEGIN:DAYLIGHT
TZOFFSETFROM:-0800
TZOFFSETTO:-0700
TZNAME:PDT
DTSTART:20230312T100000
END:DAYLIGHT
BEGIN:STANDARD
TZOFFSETFROM:-0700
TZOFFSETTO:-0800
TZNAME:PST
DTSTART:20231105T090000
END:STANDARD
BEGIN:DAYLIGHT
TZOFFSETFROM:-0800
TZOFFSETTO:-0700
TZNAME:PDT
DTSTART:20240310T100000
END:DAYLIGHT
BEGIN:STANDARD
TZOFFSETFROM:-0700
TZOFFSETTO:-0800
TZNAME:PST
DTSTART:20241103T090000
END:STANDARD
END:VTIMEZONE
BEGIN:VEVENT
DTSTART;TZID=America/Los_Angeles:20230825T170000
DTEND;TZID=America/Los_Angeles:20230825T193000
DTSTAMP:20260419T161453
CREATED:20221215T232102Z
LAST-MODIFIED:20230811T152811Z
UID:6206-1692982800-1692991800@cudaridgewines.com
SUMMARY:Music on the Vineyard Patio with Michelle Lambert
DESCRIPTION:Michelle Lambert will be back at Cuda Ridge Wines on Friday\, August 25th! Michelle is a pop/folk artist who not only sings but plays violin\, guitar\, drums\, and piano. Her music is influenced by Celtic music and women’s empowerment.\nWe have a limited number of tables (~19) that seat 6 guests comfortably. \nFood Truck:\nAnthony Scott Catering\nPlease no outside food\, in order to support our food vendor.\nThere is a two-bottle minimum requirement per table for this event. \nCLICK HERE FOR RESERVATIONS
URL:https://cudaridgewines.com/event/music-on-the-vineyard-patio-11/
CATEGORIES:Winery Events
END:VEVENT
END:VCALENDAR