BEGIN:VCALENDAR
VERSION:2.0
PRODID:-//Cuda Ridge Wines - ECPv6.15.14//NONSGML v1.0//EN
CALSCALE:GREGORIAN
METHOD:PUBLISH
X-WR-CALNAME:Cuda Ridge Wines
X-ORIGINAL-URL:https://cudaridgewines.com
X-WR-CALDESC:Events for Cuda Ridge Wines
REFRESH-INTERVAL;VALUE=DURATION:PT1H
X-Robots-Tag:noindex
X-PUBLISHED-TTL:PT1H
BEGIN:VTIMEZONE
TZID:America/Los_Angeles
BEGIN:DAYLIGHT
TZOFFSETFROM:-0800
TZOFFSETTO:-0700
TZNAME:PDT
DTSTART:20220313T100000
END:DAYLIGHT
BEGIN:STANDARD
TZOFFSETFROM:-0700
TZOFFSETTO:-0800
TZNAME:PST
DTSTART:20221106T090000
END:STANDARD
BEGIN:DAYLIGHT
TZOFFSETFROM:-0800
TZOFFSETTO:-0700
TZNAME:PDT
DTSTART:20230312T100000
END:DAYLIGHT
BEGIN:STANDARD
TZOFFSETFROM:-0700
TZOFFSETTO:-0800
TZNAME:PST
DTSTART:20231105T090000
END:STANDARD
BEGIN:DAYLIGHT
TZOFFSETFROM:-0800
TZOFFSETTO:-0700
TZNAME:PDT
DTSTART:20240310T100000
END:DAYLIGHT
BEGIN:STANDARD
TZOFFSETFROM:-0700
TZOFFSETTO:-0800
TZNAME:PST
DTSTART:20241103T090000
END:STANDARD
END:VTIMEZONE
BEGIN:VEVENT
DTSTART;TZID=America/Los_Angeles:20230817T170000
DTEND;TZID=America/Los_Angeles:20230817T200000
DTSTAMP:20260419T131414
CREATED:20230626T234604Z
LAST-MODIFIED:20230629T210159Z
UID:6922-1692291600-1692302400@cudaridgewines.com
SUMMARY:Thirsty Thursday at the Livermore Valley Farmers Market
DESCRIPTION:Cuda Ridge Wines will be pouring at the Farmers Market for Thirsty Thursday at the Downtown Livermore at Carnegie Park downtown. We will be pouring from 5:00 – 8:00.  In addition to Cuda Ridge\, there will be food trucks\, live music\, and lots of vendors.  Come on out and join us for a great evening in Livermore. \nFOR MORE DETAILS CLICK HERE
URL:https://cudaridgewines.com/event/thirsty-thursday-at-the-livermore-valley-farmers-market/
CATEGORIES:Winery Events
END:VEVENT
END:VCALENDAR