BEGIN:VCALENDAR
VERSION:2.0
PRODID:-//Cuda Ridge Wines - ECPv6.15.14//NONSGML v1.0//EN
CALSCALE:GREGORIAN
METHOD:PUBLISH
X-WR-CALNAME:Cuda Ridge Wines
X-ORIGINAL-URL:https://cudaridgewines.com
X-WR-CALDESC:Events for Cuda Ridge Wines
REFRESH-INTERVAL;VALUE=DURATION:PT1H
X-Robots-Tag:noindex
X-PUBLISHED-TTL:PT1H
BEGIN:VTIMEZONE
TZID:America/Los_Angeles
BEGIN:DAYLIGHT
TZOFFSETFROM:-0800
TZOFFSETTO:-0700
TZNAME:PDT
DTSTART:20220313T100000
END:DAYLIGHT
BEGIN:STANDARD
TZOFFSETFROM:-0700
TZOFFSETTO:-0800
TZNAME:PST
DTSTART:20221106T090000
END:STANDARD
BEGIN:DAYLIGHT
TZOFFSETFROM:-0800
TZOFFSETTO:-0700
TZNAME:PDT
DTSTART:20230312T100000
END:DAYLIGHT
BEGIN:STANDARD
TZOFFSETFROM:-0700
TZOFFSETTO:-0800
TZNAME:PST
DTSTART:20231105T090000
END:STANDARD
BEGIN:DAYLIGHT
TZOFFSETFROM:-0800
TZOFFSETTO:-0700
TZNAME:PDT
DTSTART:20240310T100000
END:DAYLIGHT
BEGIN:STANDARD
TZOFFSETFROM:-0700
TZOFFSETTO:-0800
TZNAME:PST
DTSTART:20241103T090000
END:STANDARD
END:VTIMEZONE
BEGIN:VEVENT
DTSTART;TZID=America/Los_Angeles:20230721T184500
DTEND;TZID=America/Los_Angeles:20230721T204500
DTSTAMP:20260419T175737
CREATED:20230628T204109Z
LAST-MODIFIED:20230628T205058Z
UID:6975-1689965100-1689972300@cudaridgewines.com
SUMMARY:Livermore Wine Trolley Sunset Wine Cruise
DESCRIPTION:Join us for a beautiful\, unforgettable evening of wine and cruising. This 2-hour event is held monthly on a Friday night during the summer months. Grab your friends\, family\, or that special person for the perfect “date night” and explore the gorgeous hills and grapevines of Livermore Valley Wine Country. \nThe first stop on this 2-hour cruise is the gorgeous Cuda Ridge Wines\, where guests enjoy a full wine-tasting flight in a picturesque setting. Sip and savor the variety of wines\, then pick your favorite to take home or drink on board! Exclusive discounts are offered just for Trolley guests. \nWith a wine glass in hand\, travel through the hills and beautiful vineyards listening to timeless music through the Trolley’s superior sound system. Capture the scenic views of Livermore Wine Country\, Mt. Diablo\, and a magnificent sunset. A picture-perfect backdrop for a perfect evening! \nOnly $72.99 pp. 3 nights only. June 30\, July 21\, and August 18. \nCLICK HERE FOR RESERVATIONS
URL:https://cudaridgewines.com/event/livermore-wine-trolley-sunset-wine-cruise-2/
CATEGORIES:Winery Events
END:VEVENT
END:VCALENDAR