BEGIN:VCALENDAR
VERSION:2.0
PRODID:-//Cuda Ridge Wines - ECPv6.15.14//NONSGML v1.0//EN
CALSCALE:GREGORIAN
METHOD:PUBLISH
X-ORIGINAL-URL:https://cudaridgewines.com
X-WR-CALDESC:Events for Cuda Ridge Wines
REFRESH-INTERVAL;VALUE=DURATION:PT1H
X-Robots-Tag:noindex
X-PUBLISHED-TTL:PT1H
BEGIN:VTIMEZONE
TZID:America/Los_Angeles
BEGIN:DAYLIGHT
TZOFFSETFROM:-0800
TZOFFSETTO:-0700
TZNAME:PDT
DTSTART:20220313T100000
END:DAYLIGHT
BEGIN:STANDARD
TZOFFSETFROM:-0700
TZOFFSETTO:-0800
TZNAME:PST
DTSTART:20221106T090000
END:STANDARD
BEGIN:DAYLIGHT
TZOFFSETFROM:-0800
TZOFFSETTO:-0700
TZNAME:PDT
DTSTART:20230312T100000
END:DAYLIGHT
BEGIN:STANDARD
TZOFFSETFROM:-0700
TZOFFSETTO:-0800
TZNAME:PST
DTSTART:20231105T090000
END:STANDARD
BEGIN:DAYLIGHT
TZOFFSETFROM:-0800
TZOFFSETTO:-0700
TZNAME:PDT
DTSTART:20240310T100000
END:DAYLIGHT
BEGIN:STANDARD
TZOFFSETFROM:-0700
TZOFFSETTO:-0800
TZNAME:PST
DTSTART:20241103T090000
END:STANDARD
END:VTIMEZONE
BEGIN:VEVENT
DTSTART;TZID=America/Los_Angeles:20230519T170000
DTEND;TZID=America/Los_Angeles:20230519T193000
DTSTAMP:20260419T213327
CREATED:20221215T231458Z
LAST-MODIFIED:20230503T235126Z
UID:6200-1684515600-1684524600@cudaridgewines.com
SUMMARY:Music on the Vineyard Patio with Michelle Lambert
DESCRIPTION:Join us on our Vineyard Patio for an evening of live music with special guest Michelle Lambert. We will have Marty’s Joint on-site serving up some tasty treats. Please no outside food. No cover charge\, just a two-bottle minimum purchase per table. We have a limited number of tables (~19) that seat up to 6 guests comfortably. Click Here for Reservations 
URL:https://cudaridgewines.com/event/music-on-the-vineyard-patio-8/
CATEGORIES:Winery Events
END:VEVENT
END:VCALENDAR