BEGIN:VCALENDAR
VERSION:2.0
PRODID:-//Cuda Ridge Wines - ECPv6.15.14//NONSGML v1.0//EN
CALSCALE:GREGORIAN
METHOD:PUBLISH
X-ORIGINAL-URL:https://cudaridgewines.com
X-WR-CALDESC:Events for Cuda Ridge Wines
REFRESH-INTERVAL;VALUE=DURATION:PT1H
X-Robots-Tag:noindex
X-PUBLISHED-TTL:PT1H
BEGIN:VTIMEZONE
TZID:America/Los_Angeles
BEGIN:DAYLIGHT
TZOFFSETFROM:-0800
TZOFFSETTO:-0700
TZNAME:PDT
DTSTART:20220313T100000
END:DAYLIGHT
BEGIN:STANDARD
TZOFFSETFROM:-0700
TZOFFSETTO:-0800
TZNAME:PST
DTSTART:20221106T090000
END:STANDARD
BEGIN:DAYLIGHT
TZOFFSETFROM:-0800
TZOFFSETTO:-0700
TZNAME:PDT
DTSTART:20230312T100000
END:DAYLIGHT
BEGIN:STANDARD
TZOFFSETFROM:-0700
TZOFFSETTO:-0800
TZNAME:PST
DTSTART:20231105T090000
END:STANDARD
BEGIN:DAYLIGHT
TZOFFSETFROM:-0800
TZOFFSETTO:-0700
TZNAME:PDT
DTSTART:20240310T100000
END:DAYLIGHT
BEGIN:STANDARD
TZOFFSETFROM:-0700
TZOFFSETTO:-0800
TZNAME:PST
DTSTART:20241103T090000
END:STANDARD
END:VTIMEZONE
BEGIN:VEVENT
DTSTART;TZID=America/Los_Angeles:20230506T120000
DTEND;TZID=America/Los_Angeles:20230506T163000
DTSTAMP:20260419T213252
CREATED:20230414T164622Z
LAST-MODIFIED:20230418T163646Z
UID:6656-1683374400-1683390600@cudaridgewines.com
SUMMARY:2022 Margo Rosé Release
DESCRIPTION:Join us for the release of our 2022 Margo Rosé! Our Rosé is a unique blend of Merlot and Cabernet grapes! We will pour our Margo featured alongside four other award-winning Bordeaux-style wines on our tasting flight. There will be food trucks daily for our guests to enjoy; Saturday\, Kirix Choma\, and Sunday\, Mego Kitchen! Please no outside food to support our vendor. Click Here for Reservations!
URL:https://cudaridgewines.com/event/2022-margo-rose-release/
CATEGORIES:Winery Events
END:VEVENT
END:VCALENDAR