BEGIN:VCALENDAR
VERSION:2.0
PRODID:-//Cuda Ridge Wines - ECPv6.15.14//NONSGML v1.0//EN
CALSCALE:GREGORIAN
METHOD:PUBLISH
X-ORIGINAL-URL:https://cudaridgewines.com
X-WR-CALDESC:Events for Cuda Ridge Wines
REFRESH-INTERVAL;VALUE=DURATION:PT1H
X-Robots-Tag:noindex
X-PUBLISHED-TTL:PT1H
BEGIN:VTIMEZONE
TZID:America/Los_Angeles
BEGIN:DAYLIGHT
TZOFFSETFROM:-0800
TZOFFSETTO:-0700
TZNAME:PDT
DTSTART:20220313T100000
END:DAYLIGHT
BEGIN:STANDARD
TZOFFSETFROM:-0700
TZOFFSETTO:-0800
TZNAME:PST
DTSTART:20221106T090000
END:STANDARD
BEGIN:DAYLIGHT
TZOFFSETFROM:-0800
TZOFFSETTO:-0700
TZNAME:PDT
DTSTART:20230312T100000
END:DAYLIGHT
BEGIN:STANDARD
TZOFFSETFROM:-0700
TZOFFSETTO:-0800
TZNAME:PST
DTSTART:20231105T090000
END:STANDARD
BEGIN:DAYLIGHT
TZOFFSETFROM:-0800
TZOFFSETTO:-0700
TZNAME:PDT
DTSTART:20240310T100000
END:DAYLIGHT
BEGIN:STANDARD
TZOFFSETFROM:-0700
TZOFFSETTO:-0800
TZNAME:PST
DTSTART:20241103T090000
END:STANDARD
END:VTIMEZONE
BEGIN:VEVENT
DTSTART;VALUE=DATE:20230324
DTEND;VALUE=DATE:20230327
DTSTAMP:20260420T011022
CREATED:20230120T224858Z
LAST-MODIFIED:20230313T160205Z
UID:6357-1679616000-1679875199@cudaridgewines.com
SUMMARY:Luxury Wine Weekend in the Livermore Valley
DESCRIPTION:Enjoy an exclusive weekend wine experience with the proprietors and winemakers of Cuda Ridge Wines\, McGrail Vineyards\, and Purple Orchid Wine Country Resort & Spa.  The luxurious weekend includes a two-night stay at the Purple Orchid Wine Country Resort & Spa\, wine tasting and dining experiences throughout the weekend with Cuda Ridge Wines and McGrail Vineyards\, and a relaxing getaway with new friends\, fabulous wines\, and gourmet food!  \nKick off the weekend with a Friday evening social hour\, with team members of Cuda Ridge and McGrail\, featuring wood-fired pizza by Soleil; and lots of wine and fun\, of course!   \nBegin your Saturday morning with Yoga in the Olive Orchard to clear your head.  After breakfast\, you will be taken by private luxury transportation on a Vineyard tour and then head up the hill to McGrail Vineyards for a wine experience situated in the private barrel room\, where you will taste wines that date back 10+ years!  After this educational experience\, sit back\, relax\, and enjoy panoramic views as you enjoy a picnic-style lunch in the vineyard.  Following lunch\, you will be transcended to Cuda Ridge Wines for a Vertical tasting experience before heading back to Purple Orchid Resort for an Intimate Winemaker Dinner hosted by LB Steak.  As dinner comes to a close\, we will sit under the stars as we enjoy live music\, conversation\, and a peaceful evening near the olive orchard.  \nSPA packages are available for additional purchase on Sunday through Purple Orchid Resort & Spa. There are only two rooms available!  Book your Unforgettable Memory now BOOK HERE
URL:https://cudaridgewines.com/event/luxury-wine-weekend-in-the-livermore-valley/
CATEGORIES:Winery Events
END:VEVENT
END:VCALENDAR