BEGIN:VCALENDAR
VERSION:2.0
PRODID:-//Cuda Ridge Wines - ECPv6.15.14//NONSGML v1.0//EN
CALSCALE:GREGORIAN
METHOD:PUBLISH
X-WR-CALNAME:Cuda Ridge Wines
X-ORIGINAL-URL:https://cudaridgewines.com
X-WR-CALDESC:Events for Cuda Ridge Wines
REFRESH-INTERVAL;VALUE=DURATION:PT1H
X-Robots-Tag:noindex
X-PUBLISHED-TTL:PT1H
BEGIN:VTIMEZONE
TZID:America/Los_Angeles
BEGIN:DAYLIGHT
TZOFFSETFROM:-0800
TZOFFSETTO:-0700
TZNAME:PDT
DTSTART:20220313T100000
END:DAYLIGHT
BEGIN:STANDARD
TZOFFSETFROM:-0700
TZOFFSETTO:-0800
TZNAME:PST
DTSTART:20221106T090000
END:STANDARD
BEGIN:DAYLIGHT
TZOFFSETFROM:-0800
TZOFFSETTO:-0700
TZNAME:PDT
DTSTART:20230312T100000
END:DAYLIGHT
BEGIN:STANDARD
TZOFFSETFROM:-0700
TZOFFSETTO:-0800
TZNAME:PST
DTSTART:20231105T090000
END:STANDARD
BEGIN:DAYLIGHT
TZOFFSETFROM:-0800
TZOFFSETTO:-0700
TZNAME:PDT
DTSTART:20240310T100000
END:DAYLIGHT
BEGIN:STANDARD
TZOFFSETFROM:-0700
TZOFFSETTO:-0800
TZNAME:PST
DTSTART:20241103T090000
END:STANDARD
END:VTIMEZONE
BEGIN:VEVENT
DTSTART;TZID=America/Los_Angeles:20230318T120000
DTEND;TZID=America/Los_Angeles:20230318T163000
DTSTAMP:20260420T011725
CREATED:20221215T224513Z
LAST-MODIFIED:20230313T160806Z
UID:6193-1679140800-1679157000@cudaridgewines.com
SUMMARY:Cuda Cadre Barrel Tasting Weekend
DESCRIPTION:Our club member-only barrel tasting weekend is an opportunity to get an early peek at our 2021 vintages before they are bottled and to purchase Futures at substantial discounts. We will be sampling our signature varietal\, 2021 Cabernet Franc\, and our ever-popular 2021 Black Label Cabernet Sauvignon right out of the barrel. The 2021 Cabernet Franc and 2021 Black Label Cabernet Sauvignon will be bottled in May and released in June 2023 \nFutures\nOver 30% Discount on Case Purchases | Mix and Match\n2021 Cabernet Franc – Futures Pricing: $352.80/case\, $151.20 savings\n2021 BLK Cabernet Sauvignon – Futures Pricing: $352.80/case\, $151.20 savings \nThe list pricing will increase as the wines are released. \nBarrel Tasting \n2021 Cabernet Franc \n2021 Black Label Cabernet Sauvignon \nAdditional Wines on the Tasting Flight \n2020 Black Label Cabernet Sauvignon\nGold Medal 2023 SF Chronicle Wine Competition \n2017 Bordeaux Cabernet Sauvignon\nSilver Medal 2021 SF Chronicle Wine Competition\nSilver Medal 2021 Alameda County Fair \n2018 Malbec\nSilver Medal 2021 SF Chronicle Wine Competition
URL:https://cudaridgewines.com/event/cuda-cadre-barrel-tasting-weekend/
CATEGORIES:Winery Events
END:VEVENT
END:VCALENDAR