BEGIN:VCALENDAR
VERSION:2.0
PRODID:-//Cuda Ridge Wines - ECPv6.15.14//NONSGML v1.0//EN
CALSCALE:GREGORIAN
METHOD:PUBLISH
X-ORIGINAL-URL:https://cudaridgewines.com
X-WR-CALDESC:Events for Cuda Ridge Wines
REFRESH-INTERVAL;VALUE=DURATION:PT1H
X-Robots-Tag:noindex
X-PUBLISHED-TTL:PT1H
BEGIN:VTIMEZONE
TZID:America/Los_Angeles
BEGIN:DAYLIGHT
TZOFFSETFROM:-0800
TZOFFSETTO:-0700
TZNAME:PDT
DTSTART:20220313T100000
END:DAYLIGHT
BEGIN:STANDARD
TZOFFSETFROM:-0700
TZOFFSETTO:-0800
TZNAME:PST
DTSTART:20221106T090000
END:STANDARD
BEGIN:DAYLIGHT
TZOFFSETFROM:-0800
TZOFFSETTO:-0700
TZNAME:PDT
DTSTART:20230312T100000
END:DAYLIGHT
BEGIN:STANDARD
TZOFFSETFROM:-0700
TZOFFSETTO:-0800
TZNAME:PST
DTSTART:20231105T090000
END:STANDARD
BEGIN:DAYLIGHT
TZOFFSETFROM:-0800
TZOFFSETTO:-0700
TZNAME:PDT
DTSTART:20240310T100000
END:DAYLIGHT
BEGIN:STANDARD
TZOFFSETFROM:-0700
TZOFFSETTO:-0800
TZNAME:PST
DTSTART:20241103T090000
END:STANDARD
END:VTIMEZONE
BEGIN:VEVENT
DTSTART;TZID=America/Los_Angeles:20230107T120000
DTEND;TZID=America/Los_Angeles:20230107T163000
DTSTAMP:20260420T042421
CREATED:20221215T212139Z
LAST-MODIFIED:20221223T190253Z
UID:6179-1673092800-1673109000@cudaridgewines.com
SUMMARY:Sauvignon Blanc Release
DESCRIPTION:After 6 months with no whites and a year without Sauvignon Blanc\, we are pleased to announce that we will be releasing our 2022 Sauvignon Blanc on January 7th & 8th. \nYou are invited to sip and savor our latest release\, our 2022 Sauvignon Blanc. The Sauvignon Blanc will be featured on our tasting flight along with a small bite accompaniment. Please make a reservation for the release below. Walk-ins are welcome as space permits. \nFor reservations visit Cuda Ridge Wines 
URL:https://cudaridgewines.com/event/sauvignon-blanc-release/
CATEGORIES:Winery Events
END:VEVENT
END:VCALENDAR