BEGIN:VCALENDAR
VERSION:2.0
PRODID:-//Cuda Ridge Wines - ECPv6.15.14//NONSGML v1.0//EN
CALSCALE:GREGORIAN
METHOD:PUBLISH
X-ORIGINAL-URL:https://cudaridgewines.com
X-WR-CALDESC:Events for Cuda Ridge Wines
REFRESH-INTERVAL;VALUE=DURATION:PT1H
X-Robots-Tag:noindex
X-PUBLISHED-TTL:PT1H
BEGIN:VTIMEZONE
TZID:America/Los_Angeles
BEGIN:DAYLIGHT
TZOFFSETFROM:-0800
TZOFFSETTO:-0700
TZNAME:PDT
DTSTART:20210314T100000
END:DAYLIGHT
BEGIN:STANDARD
TZOFFSETFROM:-0700
TZOFFSETTO:-0800
TZNAME:PST
DTSTART:20211107T090000
END:STANDARD
BEGIN:DAYLIGHT
TZOFFSETFROM:-0800
TZOFFSETTO:-0700
TZNAME:PDT
DTSTART:20220313T100000
END:DAYLIGHT
BEGIN:STANDARD
TZOFFSETFROM:-0700
TZOFFSETTO:-0800
TZNAME:PST
DTSTART:20221106T090000
END:STANDARD
BEGIN:DAYLIGHT
TZOFFSETFROM:-0800
TZOFFSETTO:-0700
TZNAME:PDT
DTSTART:20230312T100000
END:DAYLIGHT
BEGIN:STANDARD
TZOFFSETFROM:-0700
TZOFFSETTO:-0800
TZNAME:PST
DTSTART:20231105T090000
END:STANDARD
END:VTIMEZONE
BEGIN:VEVENT
DTSTART;TZID=America/Los_Angeles:20221204T120000
DTEND;TZID=America/Los_Angeles:20221204T163000
DTSTAMP:20260420T060838
CREATED:20220712T193045Z
LAST-MODIFIED:20221118T003829Z
UID:5843-1670155200-1670171400@cudaridgewines.com
SUMMARY:Holiday in the Vineyards
DESCRIPTION:Celebrate the Holidays at Cuda Ridge Wines. Enjoy our award-winning wine flight or a glass of wine. We will have food trucks (Marty Joint | Sat\, Big C BBQ | Sun)\, live music (Tim Gomes)\, and local vendor pop-ups will be available on both days. Donate a Toy or make a monetary donation to Toys for Tots and receive a special taste of our Small lot Reserve Wine. Reservations are available at Cuda Ridge Wines and walk-ins are welcome as space permits. \n 
URL:https://cudaridgewines.com/event/holiday-in-the-vineyards-2/
CATEGORIES:Winery Events
END:VEVENT
END:VCALENDAR