BEGIN:VCALENDAR
VERSION:2.0
PRODID:-//Cuda Ridge Wines - ECPv6.15.14//NONSGML v1.0//EN
CALSCALE:GREGORIAN
METHOD:PUBLISH
X-WR-CALNAME:Cuda Ridge Wines
X-ORIGINAL-URL:https://cudaridgewines.com
X-WR-CALDESC:Events for Cuda Ridge Wines
REFRESH-INTERVAL;VALUE=DURATION:PT1H
X-Robots-Tag:noindex
X-PUBLISHED-TTL:PT1H
BEGIN:VTIMEZONE
TZID:America/Los_Angeles
BEGIN:DAYLIGHT
TZOFFSETFROM:-0800
TZOFFSETTO:-0700
TZNAME:PDT
DTSTART:20210314T100000
END:DAYLIGHT
BEGIN:STANDARD
TZOFFSETFROM:-0700
TZOFFSETTO:-0800
TZNAME:PST
DTSTART:20211107T090000
END:STANDARD
BEGIN:DAYLIGHT
TZOFFSETFROM:-0800
TZOFFSETTO:-0700
TZNAME:PDT
DTSTART:20220313T100000
END:DAYLIGHT
BEGIN:STANDARD
TZOFFSETFROM:-0700
TZOFFSETTO:-0800
TZNAME:PST
DTSTART:20221106T090000
END:STANDARD
BEGIN:DAYLIGHT
TZOFFSETFROM:-0800
TZOFFSETTO:-0700
TZNAME:PDT
DTSTART:20230312T100000
END:DAYLIGHT
BEGIN:STANDARD
TZOFFSETFROM:-0700
TZOFFSETTO:-0800
TZNAME:PST
DTSTART:20231105T090000
END:STANDARD
END:VTIMEZONE
BEGIN:VEVENT
DTSTART;TZID=America/Los_Angeles:20220320T120000
DTEND;TZID=America/Los_Angeles:20220320T163000
DTSTAMP:20260420T221209
CREATED:20220113T213255Z
LAST-MODIFIED:20220226T204934Z
UID:5105-1647777600-1647793800@cudaridgewines.com
SUMMARY:LVWA Barrel Tasting Weekend
DESCRIPTION:Join us for the LVWA Barrel Tasting Weekend Saturday & Sunday\, March 19th – 20th! We will be barreling tasting two award-winning wines\, and have tasty food trucks both days! On Saturday Join us for the LVWA Barrel Tasting Weekend Saturday & Sunday\, March 19th – 20th! We will be barreling tasting two award-winning wines! Kirix Choma Food Truck will be at the winery on Saturday\, serving Kenyan BBQ!  On Saturday we are partnering with the Livermore Wine Trolley for a special West Side Wine Trail experience. By purchasing tickets through the Livermore Wine Trolley you will not only receive 2-day tickets to barrel tasting weekend but also access to the hop-on-hop-off shuttle service between Cuda Ridge Wines\, Fenestra Winery\, and Dante Robere Vineyards on Saturday\, March 19th!  Presale tickets for Barrel Tasting Weekend and the Wine Trolley are available to purchase tickets through Livermore Valley Wine.org for $95 each! Be sure to select Cuda Ridge as your starting location!
URL:https://cudaridgewines.com/event/open-for-wine-tasting-49/
CATEGORIES:Winery Events
END:VEVENT
END:VCALENDAR