BEGIN:VCALENDAR
VERSION:2.0
PRODID:-//Cuda Ridge Wines - ECPv6.15.14//NONSGML v1.0//EN
CALSCALE:GREGORIAN
METHOD:PUBLISH
X-ORIGINAL-URL:https://cudaridgewines.com
X-WR-CALDESC:Events for Cuda Ridge Wines
REFRESH-INTERVAL;VALUE=DURATION:PT1H
X-Robots-Tag:noindex
X-PUBLISHED-TTL:PT1H
BEGIN:VTIMEZONE
TZID:America/Los_Angeles
BEGIN:DAYLIGHT
TZOFFSETFROM:-0800
TZOFFSETTO:-0700
TZNAME:PDT
DTSTART:20210314T100000
END:DAYLIGHT
BEGIN:STANDARD
TZOFFSETFROM:-0700
TZOFFSETTO:-0800
TZNAME:PST
DTSTART:20211107T090000
END:STANDARD
BEGIN:DAYLIGHT
TZOFFSETFROM:-0800
TZOFFSETTO:-0700
TZNAME:PDT
DTSTART:20220313T100000
END:DAYLIGHT
BEGIN:STANDARD
TZOFFSETFROM:-0700
TZOFFSETTO:-0800
TZNAME:PST
DTSTART:20221106T090000
END:STANDARD
BEGIN:DAYLIGHT
TZOFFSETFROM:-0800
TZOFFSETTO:-0700
TZNAME:PDT
DTSTART:20230312T100000
END:DAYLIGHT
BEGIN:STANDARD
TZOFFSETFROM:-0700
TZOFFSETTO:-0800
TZNAME:PST
DTSTART:20231105T090000
END:STANDARD
END:VTIMEZONE
BEGIN:VEVENT
DTSTART;TZID=America/Los_Angeles:20220122T120000
DTEND;TZID=America/Los_Angeles:20220122T163000
DTSTAMP:20260421T012649
CREATED:20211227T072856Z
LAST-MODIFIED:20220117T230324Z
UID:4996-1642852800-1642869000@cudaridgewines.com
SUMMARY:WSWT Winter Pairing
DESCRIPTION:In collaboration with the West Side Wine Trail Wineries\, we are adding a small bite pairing to our Tasting Flight. This weekend\, we are offering a cheese pairing our 2016 Estate Petit Verdot! $20 Tasting Fee\, Complimentary for Cuda Cadres (4 in party). Participating wineries include Dante Robere and Las Positas. Make sure to check with each respective winery on their reservation methods & cost.
URL:https://cudaridgewines.com/event/open-for-wine-tasting-24/
CATEGORIES:Winery Events
END:VEVENT
END:VCALENDAR