BEGIN:VCALENDAR
VERSION:2.0
PRODID:-//Cuda Ridge Wines - ECPv6.15.14//NONSGML v1.0//EN
CALSCALE:GREGORIAN
METHOD:PUBLISH
X-ORIGINAL-URL:https://cudaridgewines.com
X-WR-CALDESC:Events for Cuda Ridge Wines
REFRESH-INTERVAL;VALUE=DURATION:PT1H
X-Robots-Tag:noindex
X-PUBLISHED-TTL:PT1H
BEGIN:VTIMEZONE
TZID:America/Los_Angeles
BEGIN:DAYLIGHT
TZOFFSETFROM:-0800
TZOFFSETTO:-0700
TZNAME:PDT
DTSTART:20210314T100000
END:DAYLIGHT
BEGIN:STANDARD
TZOFFSETFROM:-0700
TZOFFSETTO:-0800
TZNAME:PST
DTSTART:20211107T090000
END:STANDARD
BEGIN:DAYLIGHT
TZOFFSETFROM:-0800
TZOFFSETTO:-0700
TZNAME:PDT
DTSTART:20220313T100000
END:DAYLIGHT
BEGIN:STANDARD
TZOFFSETFROM:-0700
TZOFFSETTO:-0800
TZNAME:PST
DTSTART:20221106T090000
END:STANDARD
BEGIN:DAYLIGHT
TZOFFSETFROM:-0800
TZOFFSETTO:-0700
TZNAME:PDT
DTSTART:20230312T100000
END:DAYLIGHT
BEGIN:STANDARD
TZOFFSETFROM:-0700
TZOFFSETTO:-0800
TZNAME:PST
DTSTART:20231105T090000
END:STANDARD
END:VTIMEZONE
BEGIN:VEVENT
DTSTART;TZID=America/Los_Angeles:20220116T120000
DTEND;TZID=America/Los_Angeles:20220116T163000
DTSTAMP:20260421T012649
CREATED:20211129T221632Z
LAST-MODIFIED:20220105T211810Z
UID:4913-1642334400-1642350600@cudaridgewines.com
SUMMARY:2019 Syrah Release
DESCRIPTION:Cuda Ridge is returning with our next vintage of Syrah! Our flight will include a side by side tasting of the 2018 Syrah and the new release 2019 Syrah. \nWhen\nSaturday & Sunday\, Jan 15th-16th 12:00p.m. – 4:30p.m.\nMake your reservation as an Indoor or Outdoor Bordeaux Tasting here! \nTasting Flight\n2018 Malbec\n2018 BLK Cabernet Sauvignon\n2018 Syrah\n2019 Syrah *New Release*\n2017 Petit Verdot \nCost\nTasting Flight: $20.00\nTasting Fee Refundable with 2 bottle purchase\nComplementary for Cuda Cadre Club Members
URL:https://cudaridgewines.com/event/open-for-wine-tasting-19/
CATEGORIES:Winery Events
END:VEVENT
END:VCALENDAR