BEGIN:VCALENDAR
VERSION:2.0
PRODID:-//Cuda Ridge Wines - ECPv6.15.14//NONSGML v1.0//EN
CALSCALE:GREGORIAN
METHOD:PUBLISH
X-ORIGINAL-URL:https://cudaridgewines.com
X-WR-CALDESC:Events for Cuda Ridge Wines
REFRESH-INTERVAL;VALUE=DURATION:PT1H
X-Robots-Tag:noindex
X-PUBLISHED-TTL:PT1H
BEGIN:VTIMEZONE
TZID:America/Los_Angeles
BEGIN:DAYLIGHT
TZOFFSETFROM:-0800
TZOFFSETTO:-0700
TZNAME:PDT
DTSTART:20200308T100000
END:DAYLIGHT
BEGIN:STANDARD
TZOFFSETFROM:-0700
TZOFFSETTO:-0800
TZNAME:PST
DTSTART:20201101T090000
END:STANDARD
BEGIN:DAYLIGHT
TZOFFSETFROM:-0800
TZOFFSETTO:-0700
TZNAME:PDT
DTSTART:20210314T100000
END:DAYLIGHT
BEGIN:STANDARD
TZOFFSETFROM:-0700
TZOFFSETTO:-0800
TZNAME:PST
DTSTART:20211107T090000
END:STANDARD
BEGIN:DAYLIGHT
TZOFFSETFROM:-0800
TZOFFSETTO:-0700
TZNAME:PDT
DTSTART:20220313T100000
END:DAYLIGHT
BEGIN:STANDARD
TZOFFSETFROM:-0700
TZOFFSETTO:-0800
TZNAME:PST
DTSTART:20221106T090000
END:STANDARD
END:VTIMEZONE
BEGIN:VEVENT
DTSTART;TZID=America/Los_Angeles:20211205T120000
DTEND;TZID=America/Los_Angeles:20211205T163000
DTSTAMP:20260421T030054
CREATED:20211122T224355Z
LAST-MODIFIED:20211122T224411Z
UID:4857-1638705600-1638721800@cudaridgewines.com
SUMMARY:Holidays in the Vineyards
DESCRIPTION:Join us for a weekend of holiday fun! Sip our wines and enjoy holiday music from special guest Tim Gomes. Donate a Toy or make monetary donation for Toys for Tots and receive a special Reserve Wine Taste. \nVendors: Julia Nagle– Handcrafted Jewelry\, Red Light Designs– wine bottle night lights \nFood:  Marty’s Joint Food Truck (Saturday only) \nSanta Claus:  Santa will be at the winery!  Be sure to bring your wish list. \n\nTo make a reservation\, simply book a standard Bordeaux tasting.
URL:https://cudaridgewines.com/event/holidays-in-the-vineyards-2/
CATEGORIES:Winery Events
END:VEVENT
END:VCALENDAR