BEGIN:VCALENDAR
VERSION:2.0
PRODID:-//Cuda Ridge Wines - ECPv6.15.14//NONSGML v1.0//EN
CALSCALE:GREGORIAN
METHOD:PUBLISH
X-ORIGINAL-URL:https://cudaridgewines.com
X-WR-CALDESC:Events for Cuda Ridge Wines
REFRESH-INTERVAL;VALUE=DURATION:PT1H
X-Robots-Tag:noindex
X-PUBLISHED-TTL:PT1H
BEGIN:VTIMEZONE
TZID:America/Los_Angeles
BEGIN:DAYLIGHT
TZOFFSETFROM:-0800
TZOFFSETTO:-0700
TZNAME:PDT
DTSTART:20220313T100000
END:DAYLIGHT
BEGIN:STANDARD
TZOFFSETFROM:-0700
TZOFFSETTO:-0800
TZNAME:PST
DTSTART:20221106T090000
END:STANDARD
BEGIN:DAYLIGHT
TZOFFSETFROM:-0800
TZOFFSETTO:-0700
TZNAME:PDT
DTSTART:20230312T100000
END:DAYLIGHT
BEGIN:STANDARD
TZOFFSETFROM:-0700
TZOFFSETTO:-0800
TZNAME:PST
DTSTART:20231105T090000
END:STANDARD
BEGIN:DAYLIGHT
TZOFFSETFROM:-0800
TZOFFSETTO:-0700
TZNAME:PDT
DTSTART:20240310T100000
END:DAYLIGHT
BEGIN:STANDARD
TZOFFSETFROM:-0700
TZOFFSETTO:-0800
TZNAME:PST
DTSTART:20241103T090000
END:STANDARD
END:VTIMEZONE
BEGIN:VEVENT
DTSTART;TZID=America/Los_Angeles:20231103T170000
DTEND;TZID=America/Los_Angeles:20231103T200000
DTSTAMP:20260419T092246
CREATED:20230927T151513Z
LAST-MODIFIED:20230927T151513Z
UID:7292-1699030800-1699041600@cudaridgewines.com
SUMMARY:Pouring at Castlewood Country Club
DESCRIPTION:Look for Cuda Ridge Wines as we will be pouring at Castlewood Country Club for their Fall Wine Festival!
URL:https://cudaridgewines.com/event/pouring-at-castlewood-country-club/
CATEGORIES:Winery Events
END:VEVENT
BEGIN:VEVENT
DTSTART;TZID=America/Los_Angeles:20231104T120000
DTEND;TZID=America/Los_Angeles:20231104T163000
DTSTAMP:20260419T092246
CREATED:20221216T193614Z
LAST-MODIFIED:20221216T193614Z
UID:6236-1699099200-1699115400@cudaridgewines.com
SUMMARY:Cuda Cadre Club Release - Closed to the Public
DESCRIPTION:We will be closed to the public for our Cuda Cadre Club Release Weekend.  We apologize for the inconvenience.  For information about our club visit: Cuda Cadre Wine Club  \nCheers!
URL:https://cudaridgewines.com/event/cuda-cadre-club-release-closed-to-the-public-8/
CATEGORIES:Winery Events
END:VEVENT
BEGIN:VEVENT
DTSTART;TZID=America/Los_Angeles:20231105T120000
DTEND;TZID=America/Los_Angeles:20231105T163000
DTSTAMP:20260419T092246
CREATED:20221216T193646Z
LAST-MODIFIED:20221216T193646Z
UID:6238-1699185600-1699201800@cudaridgewines.com
SUMMARY:Cuda Cadre Club Release - Closed to the Public
DESCRIPTION:We will be closed to the public for our Cuda Cadre Club Release Weekend.  We apologize for the inconvenience.  For information about our club visit: Cuda Cadre Wine Club  \nCheers!
URL:https://cudaridgewines.com/event/cuda-cadre-club-release-closed-to-the-public-9/
CATEGORIES:Winery Events
END:VEVENT
BEGIN:VEVENT
DTSTART;TZID=America/Los_Angeles:20231116T180000
DTEND;TZID=America/Los_Angeles:20231116T200000
DTSTAMP:20260419T092246
CREATED:20230927T155541Z
LAST-MODIFIED:20231013T205247Z
UID:7308-1700157600-1700164800@cudaridgewines.com
SUMMARY:Winemaker Dinner at Terria Mia
DESCRIPTION:Join us for another amazing winemaker experience.  We have teamed up with Terria Mia this time to bring you an elevated wine and dinner experience. Enjoy their famous Gourmet Italian wine dinner with our Bordeaux-style wines. The dinner will consist of five courses paired with five wines. The event is $125 for non-members and $115 for members plus tax and tips. \nCLICK HERE FOR RESERVATIONS \n 
URL:https://cudaridgewines.com/event/winemaker-dinner-at-terria-mia/
CATEGORIES:Winery Events
END:VEVENT
END:VCALENDAR