BEGIN:VCALENDAR
VERSION:2.0
PRODID:-//Cuda Ridge Wines - ECPv6.15.14//NONSGML v1.0//EN
CALSCALE:GREGORIAN
METHOD:PUBLISH
X-WR-CALNAME:Cuda Ridge Wines
X-ORIGINAL-URL:https://cudaridgewines.com
X-WR-CALDESC:Events for Cuda Ridge Wines
REFRESH-INTERVAL;VALUE=DURATION:PT1H
X-Robots-Tag:noindex
X-PUBLISHED-TTL:PT1H
BEGIN:VTIMEZONE
TZID:America/Los_Angeles
BEGIN:DAYLIGHT
TZOFFSETFROM:-0800
TZOFFSETTO:-0700
TZNAME:PDT
DTSTART:20220313T100000
END:DAYLIGHT
BEGIN:STANDARD
TZOFFSETFROM:-0700
TZOFFSETTO:-0800
TZNAME:PST
DTSTART:20221106T090000
END:STANDARD
BEGIN:DAYLIGHT
TZOFFSETFROM:-0800
TZOFFSETTO:-0700
TZNAME:PDT
DTSTART:20230312T100000
END:DAYLIGHT
BEGIN:STANDARD
TZOFFSETFROM:-0700
TZOFFSETTO:-0800
TZNAME:PST
DTSTART:20231105T090000
END:STANDARD
BEGIN:DAYLIGHT
TZOFFSETFROM:-0800
TZOFFSETTO:-0700
TZNAME:PDT
DTSTART:20240310T100000
END:DAYLIGHT
BEGIN:STANDARD
TZOFFSETFROM:-0700
TZOFFSETTO:-0800
TZNAME:PST
DTSTART:20241103T090000
END:STANDARD
END:VTIMEZONE
BEGIN:VEVENT
DTSTART;TZID=America/Los_Angeles:20231005T180000
DTEND;TZID=America/Los_Angeles:20231005T190000
DTSTAMP:20260419T110103
CREATED:20230929T195151Z
LAST-MODIFIED:20230930T203749Z
UID:7315-1696528800-1696532400@cudaridgewines.com
SUMMARY:Livermore Valley Wine Master Class
DESCRIPTION:Join us for a fun and educational wine experience at the First Street Wine Co! Discover the rich flavors and stories behind the wines of Livermore Valley. \nTaste the wines of Cuda Ridge\, and learn about the Harvest and production\, How Cuda Ridge makes a blend\, and the history and future of Livermore Wine region. \nThis in-person event is perfect for wine enthusiasts and beginners looking to expand their knowledge. Explore the varietals Livermore has to offer\, learn about the winemaking process\, and indulge in tastings of exquisite wines. Don’t miss this opportunity to deepen your appreciation for wine and enjoy a delightful evening with fellow wine lovers. Cheers! \nCLICK HERE FOR TICKETS \n  \n 
URL:https://cudaridgewines.com/event/livermore-valley-wine-master-class/
CATEGORIES:Winery Events
END:VEVENT
BEGIN:VEVENT
DTSTART;TZID=America/Los_Angeles:20231019T180000
DTEND;TZID=America/Los_Angeles:20231019T200000
DTSTAMP:20260419T110103
CREATED:20230929T202812Z
LAST-MODIFIED:20230929T202812Z
UID:7320-1697738400-1697745600@cudaridgewines.com
SUMMARY:TASTE: The Livermore Valley Wine Experience
DESCRIPTION:Livermore Valley’s premier food and wine affair spans four delectable days. Thursday\, October 19th through Sunday\, October 22\, 2023. Thursday evening at the Bella Rosa Event Center at Garré Vineyard and Winery is Taste Our Terroir\, a Food and Wine pairing competition with a dessert bar with additional wineries. \nCuda Ridge Wines is paired with LB Steak. Chef Romero Miraflor brings twenty-plus years of experience in Bay Area Steak and Seafood restaurants. He’s excited to bring LB Steak to the Tri-Valley Area and to partner with Cuda Ridge and the other great wineries in the area. Larry Dino is the proprietor of Cuda Ridge Wines. Larry’s passion for winemaking started in 1999 when he produced his first barrel of wine. Larry brings out the unique character of his wines by using old-world methods to balance aromas and flavor from fruit that is grown exclusively in the Livermore Valley. \nCLICK HERE FOR TICKETS \n 
URL:https://cudaridgewines.com/event/taste-the-livermore-valley-wine-experience/
CATEGORIES:Winery Events
END:VEVENT
BEGIN:VEVENT
DTSTART;TZID=America/Los_Angeles:20231021T133000
DTEND;TZID=America/Los_Angeles:20231021T153000
DTSTAMP:20260419T110103
CREATED:20230701T211149Z
LAST-MODIFIED:20230701T211703Z
UID:7016-1697895000-1697902200@cudaridgewines.com
SUMMARY:TASTE: The Livermore Valley Wine Experience -  Cabbies & Patties Event
DESCRIPTION:Drink This\, Eat That: Cabbies & Patties is back on Saturday\, October 21st! Enjoy your favorite Cabernet Sauvignon wines from Concannon Vineyard and Cuda Ridge Wines and a tasty choice of a locally crafted burger from the one and only Ominous Burger! Join winemakers James Foster and Larry Dino as we break bread together and have a fun afternoon under the Grape Arbor at Concannon. This isn’t your average Cabernet tasting\, as you taste through Library\, Reserve\, and Heritage wines from both wineries. And it sure isn’t an average burger as you choose from a great list of perfect burgers! Their motto says it all\, “Making people smile one burger at a time!” Veggie burgers will be available. \n$60.00 | 1:30 pm – 3:30 pm | Concannon Vineyard | 4590 Tesla Road | Livermore 94550  \nGET YOUR TICKETS HERE \n 
URL:https://cudaridgewines.com/event/cabbies-patties/
CATEGORIES:Winery Events
END:VEVENT
END:VCALENDAR