BEGIN:VCALENDAR
VERSION:2.0
PRODID:-//Cuda Ridge Wines - ECPv6.15.14//NONSGML v1.0//EN
CALSCALE:GREGORIAN
METHOD:PUBLISH
X-WR-CALNAME:Cuda Ridge Wines
X-ORIGINAL-URL:https://cudaridgewines.com
X-WR-CALDESC:Events for Cuda Ridge Wines
REFRESH-INTERVAL;VALUE=DURATION:PT1H
X-Robots-Tag:noindex
X-PUBLISHED-TTL:PT1H
BEGIN:VTIMEZONE
TZID:America/Los_Angeles
BEGIN:DAYLIGHT
TZOFFSETFROM:-0800
TZOFFSETTO:-0700
TZNAME:PDT
DTSTART:20220313T100000
END:DAYLIGHT
BEGIN:STANDARD
TZOFFSETFROM:-0700
TZOFFSETTO:-0800
TZNAME:PST
DTSTART:20221106T090000
END:STANDARD
BEGIN:DAYLIGHT
TZOFFSETFROM:-0800
TZOFFSETTO:-0700
TZNAME:PDT
DTSTART:20230312T100000
END:DAYLIGHT
BEGIN:STANDARD
TZOFFSETFROM:-0700
TZOFFSETTO:-0800
TZNAME:PST
DTSTART:20231105T090000
END:STANDARD
BEGIN:DAYLIGHT
TZOFFSETFROM:-0800
TZOFFSETTO:-0700
TZNAME:PDT
DTSTART:20240310T100000
END:DAYLIGHT
BEGIN:STANDARD
TZOFFSETFROM:-0700
TZOFFSETTO:-0800
TZNAME:PST
DTSTART:20241103T090000
END:STANDARD
END:VTIMEZONE
BEGIN:VEVENT
DTSTART;TZID=America/Los_Angeles:20230604T123000
DTEND;TZID=America/Los_Angeles:20230604T150000
DTSTAMP:20260419T180818
CREATED:20230511T153323Z
LAST-MODIFIED:20230516T205321Z
UID:6755-1685881800-1685890800@cudaridgewines.com
SUMMARY:Cabernet Franc Winemaker Luncheon at Pairings
DESCRIPTION:We have partnered with Pairings Wine Bar and Restaurant for an exciting and unique wine and food luncheon featuring Cuda Ridge Cabernet Franc on Sunday\, June 6th at 12:30. We are bottling our 2021 Cabernet Franc at the end of May and this will be an opportunity to get a sneak tasting of the new release! Main Street in Pleasanton will be blocked off this day and we will be doing the pairing outdoors under the tent!
URL:https://cudaridgewines.com/event/cabernet-franc-winemaker-luncheon-at-pairings/
CATEGORIES:Winery Events
END:VEVENT
BEGIN:VEVENT
DTSTART;TZID=America/Los_Angeles:20230616T170000
DTEND;TZID=America/Los_Angeles:20230616T193000
DTSTAMP:20260419T180818
CREATED:20221215T231545Z
LAST-MODIFIED:20230608T230239Z
UID:6202-1686934800-1686943800@cudaridgewines.com
SUMMARY:Music on the Vineyard Patio with Jack Quigley
DESCRIPTION:Join us for Jack Quigley’s very first Music on the Vineyard Patio at Cuda Ridge! We are so excited to have him perform his acoustic style of Rock and Soul Music. \nWe have a limited number of tables (~19) that seat 6 guests comfortably. Be sure to RSVP using the link below! \nFood Truck:\nMozzeria Pizza \nPlease no outside food\, in order to support our food vendor.\nThere is a two-bottle minimum requirement per table for this event. \nCLICK HERE FOR RESERVATIONS
URL:https://cudaridgewines.com/event/music-on-the-vineyard-patio-9/
CATEGORIES:Winery Events
END:VEVENT
BEGIN:VEVENT
DTSTART;TZID=America/Los_Angeles:20230624T120000
DTEND;TZID=America/Los_Angeles:20230624T163000
DTSTAMP:20260419T180818
CREATED:20221216T020951Z
LAST-MODIFIED:20230621T164358Z
UID:6216-1687608000-1687624200@cudaridgewines.com
SUMMARY:Cuda Cadre Club Release - Closed to the Public
DESCRIPTION:We will be closed to the public for our Cuda Cadre Club Release Weekend.  We apologize for the inconvenience.  For information about our club visit: Cuda Cadre Wine Club   If you are a club member and would like to attend the event please call 501 – 304 – 0914. \nCheers!
URL:https://cudaridgewines.com/event/cuda-cadre-club-release-closed-to-the-public-6/
CATEGORIES:Winery Events
END:VEVENT
BEGIN:VEVENT
DTSTART;TZID=America/Los_Angeles:20230625T120000
DTEND;TZID=America/Los_Angeles:20230625T163000
DTSTAMP:20260419T180818
CREATED:20221216T021035Z
LAST-MODIFIED:20230621T164533Z
UID:6218-1687694400-1687710600@cudaridgewines.com
SUMMARY:Cuda Cadre Club Release - Closed to the Public
DESCRIPTION:We will be closed to the public for our Cuda Cadre Club Release Weekend.  We apologize for the inconvenience.  For information about our club visit: Cuda Cadre Wine Club If you are a club member and would like to attend this event call 501 – 304 -0914 to make your reservation. \nCheers! \n 
URL:https://cudaridgewines.com/event/cuda-cadre-club-release-closed-to-the-public-7/
CATEGORIES:Winery Events
END:VEVENT
BEGIN:VEVENT
DTSTART;TZID=America/Los_Angeles:20230628T180000
DTEND;TZID=America/Los_Angeles:20230628T203000
DTSTAMP:20260419T180818
CREATED:20230601T161048Z
LAST-MODIFIED:20230621T164725Z
UID:6857-1687975200-1687984200@cudaridgewines.com
SUMMARY:Winemaker Dinner at Forbes Mill (Danville)
DESCRIPTION:We are so excited to announce that not only can you order Cuda Ridge Wines as Forbes Mill Steakhouse. Forbes Mill Steakhouse combines excellent food and distinguished service with a stylish and comfortable environment. Come enjoy the award-winning Cuda Ridge Wines\, along with a sneak preview of the 2021 Cabernet Franc\, and exquisite steak dinner. \nMenu\nShrimp Tostada\npaired with 2022 Margo Rosé \nSoup\nTomato Bisque\npaired with 2021 Cabernet Franc (Preview) \nPasta\nChicken Marsala Pasta\npaired with 2019 Melange d’ Amis \nMain Course\nAustralian Wagyu with Mash\npaired with 2019 Black Label Cabernet Sauvignon \nDessert\nChocolate Mousse\npaired with 2019 Petit Verdot \nPrice\n$175 per person (tax & gratuity included)\nReservations\nFor reservations call (925) 380-2820\nor email andrea@forbesmillsteakhouse.com
URL:https://cudaridgewines.com/event/winemaker-dinner-at-forbes-mill-danville/
CATEGORIES:Winery Events
END:VEVENT
BEGIN:VEVENT
DTSTART;TZID=America/Los_Angeles:20230630T184500
DTEND;TZID=America/Los_Angeles:20230630T204500
DTSTAMP:20260419T180818
CREATED:20230628T204034Z
LAST-MODIFIED:20230628T205156Z
UID:6972-1688150700-1688157900@cudaridgewines.com
SUMMARY:Livermore Wine Trolley Sunset Wine Cruise
DESCRIPTION:Join us for a beautiful\, unforgettable evening of wine and cruising. This 2-hour event is held monthly on a Friday night during the summer months. Grab your friends\, family\, or that special person for the perfect “date night” and explore the gorgeous hills and grapevines of Livermore Valley Wine Country. \nThe first stop on this 2-hour cruise is the gorgeous Cuda Ridge Wines\, where guests enjoy a full wine-tasting flight in a picturesque setting. Sip and savor the variety of wines\, then pick your favorite to take home or drink on board! Exclusive discounts are offered just for Trolley guests. \nWith a wine glass in hand\, travel through the hills and beautiful vineyards listening to timeless music through the Trolley’s superior sound system. Capture the scenic views of Livermore Wine Country\, Mt. Diablo\, and a magnificent sunset. A picture-perfect backdrop for a perfect evening! \nOnly $72.99 pp. 3 nights only. June 30\, July 21\, and August 18. \nCLICK HERE FOR RESERVATIONS
URL:https://cudaridgewines.com/event/livermore-wine-trolley-sunset-wine-cruise/
CATEGORIES:Winery Events
END:VEVENT
END:VCALENDAR