BEGIN:VCALENDAR
VERSION:2.0
PRODID:-//Cuda Ridge Wines - ECPv6.15.14//NONSGML v1.0//EN
CALSCALE:GREGORIAN
METHOD:PUBLISH
X-ORIGINAL-URL:https://cudaridgewines.com
X-WR-CALDESC:Events for Cuda Ridge Wines
REFRESH-INTERVAL;VALUE=DURATION:PT1H
X-Robots-Tag:noindex
X-PUBLISHED-TTL:PT1H
BEGIN:VTIMEZONE
TZID:America/Los_Angeles
BEGIN:DAYLIGHT
TZOFFSETFROM:-0800
TZOFFSETTO:-0700
TZNAME:PDT
DTSTART:20220313T100000
END:DAYLIGHT
BEGIN:STANDARD
TZOFFSETFROM:-0700
TZOFFSETTO:-0800
TZNAME:PST
DTSTART:20221106T090000
END:STANDARD
BEGIN:DAYLIGHT
TZOFFSETFROM:-0800
TZOFFSETTO:-0700
TZNAME:PDT
DTSTART:20230312T100000
END:DAYLIGHT
BEGIN:STANDARD
TZOFFSETFROM:-0700
TZOFFSETTO:-0800
TZNAME:PST
DTSTART:20231105T090000
END:STANDARD
BEGIN:DAYLIGHT
TZOFFSETFROM:-0800
TZOFFSETTO:-0700
TZNAME:PDT
DTSTART:20240310T100000
END:DAYLIGHT
BEGIN:STANDARD
TZOFFSETFROM:-0700
TZOFFSETTO:-0800
TZNAME:PST
DTSTART:20241103T090000
END:STANDARD
END:VTIMEZONE
BEGIN:VEVENT
DTSTART;TZID=America/Los_Angeles:20230426T180000
DTEND;TZID=America/Los_Angeles:20230426T200000
DTSTAMP:20260419T213212
CREATED:20230324T224302Z
LAST-MODIFIED:20230324T224302Z
UID:6568-1682532000-1682539200@cudaridgewines.com
SUMMARY:Cheese & Wine Pairing at The Cheese Parlor
DESCRIPTION:Get ready for another exceptional wine & cheese pairing experience from Cuda Ridge Wines & The Cheese Parlor!  Winemaker Larry Dino and Cheese Mongor Brandon Wood will lead guests through the ultimate Bordeaux Pairing experience.  Try four of Cuda Ridge Bordeaux Style wines paired with four cheeses and accompaniments to send your palate back to Bordeaux! This event will be hosted at The Cheese Parlor on Wednesday\, April 26th from 6:00 pm – 8:00 pm. Tickets are $65.00 *tax not included* \nTo purchase your tickets visit Eventbrite  \n 
URL:https://cudaridgewines.com/event/cheese-wine-pairing-at-the-cheese-parlor/
CATEGORIES:Winery Events
END:VEVENT
BEGIN:VEVENT
DTSTART;TZID=America/Los_Angeles:20230428T170000
DTEND;TZID=America/Los_Angeles:20230428T193000
DTSTAMP:20260419T213212
CREATED:20221215T231036Z
LAST-MODIFIED:20230413T230325Z
UID:6198-1682701200-1682710200@cudaridgewines.com
SUMMARY:Music on the Vineyard Patio with Angie Maserati
DESCRIPTION:Join us on our Vineyard Patio for an evening of live music with special guest Angie Maserati. We will have Big C BBQ on-site serving up some tasty treats. Please no outside food. No cover charge\, just a two-bottle minimum purchase per table. We have a limited number of tables (~19) that seat up to 6 guests comfortably. Click Here for Reservations \n  \n \n 
URL:https://cudaridgewines.com/event/music-on-the-vineyard-patio-7/
CATEGORIES:Winery Events
END:VEVENT
END:VCALENDAR