BEGIN:VCALENDAR
VERSION:2.0
PRODID:-//Cuda Ridge Wines - ECPv6.15.14//NONSGML v1.0//EN
CALSCALE:GREGORIAN
METHOD:PUBLISH
X-WR-CALNAME:Cuda Ridge Wines
X-ORIGINAL-URL:https://cudaridgewines.com
X-WR-CALDESC:Events for Cuda Ridge Wines
REFRESH-INTERVAL;VALUE=DURATION:PT1H
X-Robots-Tag:noindex
X-PUBLISHED-TTL:PT1H
BEGIN:VTIMEZONE
TZID:America/Los_Angeles
BEGIN:DAYLIGHT
TZOFFSETFROM:-0800
TZOFFSETTO:-0700
TZNAME:PDT
DTSTART:20210314T100000
END:DAYLIGHT
BEGIN:STANDARD
TZOFFSETFROM:-0700
TZOFFSETTO:-0800
TZNAME:PST
DTSTART:20211107T090000
END:STANDARD
BEGIN:DAYLIGHT
TZOFFSETFROM:-0800
TZOFFSETTO:-0700
TZNAME:PDT
DTSTART:20220313T100000
END:DAYLIGHT
BEGIN:STANDARD
TZOFFSETFROM:-0700
TZOFFSETTO:-0800
TZNAME:PST
DTSTART:20221106T090000
END:STANDARD
BEGIN:DAYLIGHT
TZOFFSETFROM:-0800
TZOFFSETTO:-0700
TZNAME:PDT
DTSTART:20230312T100000
END:DAYLIGHT
BEGIN:STANDARD
TZOFFSETFROM:-0700
TZOFFSETTO:-0800
TZNAME:PST
DTSTART:20231105T090000
END:STANDARD
END:VTIMEZONE
BEGIN:VEVENT
DTSTART;TZID=America/Los_Angeles:20221105T120000
DTEND;TZID=America/Los_Angeles:20221105T163000
DTSTAMP:20260420T060818
CREATED:20220711T202210Z
LAST-MODIFIED:20220711T202856Z
UID:5795-1667649600-1667665800@cudaridgewines.com
SUMMARY:Cuda Cadre Club Release - Closed to the Public
DESCRIPTION:We will be closed to the public for our Cuda Cadre Club Release Weekend.  We apologize for the inconvenience.  For information about our club visit: Cuda Cadre Wine Club  \nCheers!
URL:https://cudaridgewines.com/event/cuda-cadre-club-release-closed-to-the-public-4/
CATEGORIES:Winery Events
END:VEVENT
BEGIN:VEVENT
DTSTART;TZID=America/Los_Angeles:20221106T120000
DTEND;TZID=America/Los_Angeles:20221106T163000
DTSTAMP:20260420T060818
CREATED:20220711T202802Z
LAST-MODIFIED:20220711T202802Z
UID:5797-1667736000-1667752200@cudaridgewines.com
SUMMARY:Cuda Cadre Club Release - Closed to the Public
DESCRIPTION:We will be closed to the public for our Cuda Cadre Club Release Weekend.  We apologize for the inconvenience.  For information about our club visit: Cuda Cadre Wine Club  \nCheers!
URL:https://cudaridgewines.com/event/cuda-cadre-club-release-closed-to-the-public-5/
CATEGORIES:Winery Events
END:VEVENT
BEGIN:VEVENT
DTSTART;TZID=America/Los_Angeles:20221125T120000
DTEND;TZID=America/Los_Angeles:20221125T163000
DTSTAMP:20260420T060818
CREATED:20221118T000639Z
LAST-MODIFIED:20221118T000639Z
UID:6145-1669377600-1669393800@cudaridgewines.com
SUMMARY:National Carménère Day Celebration
DESCRIPTION:Cuda Ridge is the first\, and only\, Livermore Valley winery to produce a Livermore Valley designated Carménère. To celebrate National Carménère Day. We will be pouring a bold Bordeaux flight featuring our two exclusive Carménère\, Little Dog Vineyard ( 92 Pts\, Wine Enthusiast) & Insel Vineyard (89 Pts\, Wine Enthusiast) with four additional award-winning wines! This flight will be featured all weekend all from Friday\, November 25th through Monday\, November 28th. Make Reservations at Cuda Ridge Wines or walk-ins are welcome as space permits. \n 
URL:https://cudaridgewines.com/event/national-carmenere-day-celebration/
CATEGORIES:Winery Events
END:VEVENT
BEGIN:VEVENT
DTSTART;TZID=America/Los_Angeles:20221126T120000
DTEND;TZID=America/Los_Angeles:20221126T163000
DTSTAMP:20260420T060818
CREATED:20221118T003957Z
LAST-MODIFIED:20221118T004133Z
UID:6148-1669464000-1669480200@cudaridgewines.com
SUMMARY:National Carménère Day Celebration
DESCRIPTION:Cuda Ridge is the first\, and only\, Livermore Valley winery to produce a Livermore Valley designated Carménère. To celebrate National Carménère Day. We will be pouring a bold Bordeaux flight featuring our two exclusive Carménère\, Little Dog Vineyard ( 92 Pts\, Wine Enthusiast) & Insel Vineyard (89 Pts\, Wine Enthusiast) with four additional award-winning wines! This flight will be featured all weekend all from Friday\, November 25th through Monday\, November 28th. Make Reservations at Cuda Ridge Wines or walk-ins are welcome as space permits. \n 
URL:https://cudaridgewines.com/event/national-carmenere-day-celebration-2/
CATEGORIES:Winery Events
END:VEVENT
END:VCALENDAR