BEGIN:VCALENDAR
VERSION:2.0
PRODID:-//Cuda Ridge Wines - ECPv6.15.14//NONSGML v1.0//EN
CALSCALE:GREGORIAN
METHOD:PUBLISH
X-ORIGINAL-URL:https://cudaridgewines.com
X-WR-CALDESC:Events for Cuda Ridge Wines
REFRESH-INTERVAL;VALUE=DURATION:PT1H
X-Robots-Tag:noindex
X-PUBLISHED-TTL:PT1H
BEGIN:VTIMEZONE
TZID:America/Los_Angeles
BEGIN:DAYLIGHT
TZOFFSETFROM:-0800
TZOFFSETTO:-0700
TZNAME:PDT
DTSTART:20210314T100000
END:DAYLIGHT
BEGIN:STANDARD
TZOFFSETFROM:-0700
TZOFFSETTO:-0800
TZNAME:PST
DTSTART:20211107T090000
END:STANDARD
BEGIN:DAYLIGHT
TZOFFSETFROM:-0800
TZOFFSETTO:-0700
TZNAME:PDT
DTSTART:20220313T100000
END:DAYLIGHT
BEGIN:STANDARD
TZOFFSETFROM:-0700
TZOFFSETTO:-0800
TZNAME:PST
DTSTART:20221106T090000
END:STANDARD
BEGIN:DAYLIGHT
TZOFFSETFROM:-0800
TZOFFSETTO:-0700
TZNAME:PDT
DTSTART:20230312T100000
END:DAYLIGHT
BEGIN:STANDARD
TZOFFSETFROM:-0700
TZOFFSETTO:-0800
TZNAME:PST
DTSTART:20231105T090000
END:STANDARD
END:VTIMEZONE
BEGIN:VEVENT
DTSTART;TZID=America/Los_Angeles:20221015T130000
DTEND;TZID=America/Los_Angeles:20221015T160000
DTSTAMP:20260420T073943
CREATED:20220911T200529Z
LAST-MODIFIED:20220911T200529Z
UID:5961-1665838800-1665849600@cudaridgewines.com
SUMMARY:Hello\, Merlot!
DESCRIPTION:Hello\, Merlot!\nSaturday\, October 15th\n1-4 PM\n$25 || $30 at the door \nSay “Hello!” to your new Secret Crush at Hello\, Merlot! a one-of-a-kind tasting experience of ten Merlots produced by Livermore Valley winemakers. Taste (10) ten Livermore Valley Merlots at the beautiful Bankhead Theater! While sipping on these different Merlots enjoy learning how each winemaker adds their own touch to this fantastic varietal.  Participating wineries include Cuda Ridge Wines\, Fenestra Winery\, Las Positas Vineyards\, McGrail Vineyards\, Nottingham Cellars\, Page Mill Winery\, Retzlaff Vineyards\, Rodrigue Molyneaux Winery\, Rosa Fierro Cellars\, Wood Family Vineyards. Discover the supple and enduring beauty of the grape Miles famously trashed in “Sideways\,” but secretly savored at the end of the movie. We’re proud of our Merlots and can’t wait to share them with you!  Local cheesemonger Brandon Wood of the Cheese Parlor and Chocolatier\, Larissa Milano from Bluebirds chocolate will be on-site with munchies available for purchase. \nPurchase your tickets here!
URL:https://cudaridgewines.com/event/hello-merlot/
CATEGORIES:Winery Events
END:VEVENT
BEGIN:VEVENT
DTSTART;TZID=America/Los_Angeles:20221018T180000
DTEND;TZID=America/Los_Angeles:20221018T210000
DTSTAMP:20260420T073943
CREATED:20220916T200721Z
LAST-MODIFIED:20220917T153039Z
UID:5973-1666116000-1666126800@cudaridgewines.com
SUMMARY:Winemaker Dinner at Zephyr Bar & Grill
DESCRIPTION:Join us for a fun-filled evening with wine\, food\, and friends at the Cuda Ridge Wines and Zephyr Bar & Grill Winemaker Dinner! This five-course wine-paired dinner is scheduled for Tuesday\, October 18th at 6:00 pm. Our winemaker has worked closes with the Head Chef of Zephyr to come up with a menu that we are sure you will love! \nTo make your reservation today at Zephyr Bar & Grill
URL:https://cudaridgewines.com/event/winemaker-dinner-at-zephyr-bar-grill/
CATEGORIES:Winery Events
END:VEVENT
BEGIN:VEVENT
DTSTART;TZID=America/Los_Angeles:20221023T120000
DTEND;TZID=America/Los_Angeles:20221023T163000
DTSTAMP:20260420T073943
CREATED:20221020T181657Z
LAST-MODIFIED:20221020T181657Z
UID:6090-1666526400-1666542600@cudaridgewines.com
SUMMARY:New Artist Reception with Lisa Maciel
DESCRIPTION:Please join us in welcoming Lisa Maciel and her artwork to Cuda Ridge Wines. Lisa and her late husband\, Bill have played an imperative role in the founding of Cuda Ridge Wines and assisting in making some of our best wines. We are so incredibly grateful for not only the assistance and artwork Lisa has provided but also her friendship. Please be sure to check out Lisa’s artwork\, and say hello to Lisa\, at her very first art exhibit this Sunday\, between 12:00 pm and 4:30 pm at the winery. Charcuterie and a small glass of wine will be provided. \nNo reservations are needed.
URL:https://cudaridgewines.com/event/new-artist-reception-with-lisa-maciel/
CATEGORIES:Winery Events
END:VEVENT
BEGIN:VEVENT
DTSTART;TZID=America/Los_Angeles:20221025T180000
DTEND;TZID=America/Los_Angeles:20221025T210000
DTSTAMP:20260420T073943
CREATED:20220919T205612Z
LAST-MODIFIED:20220919T205612Z
UID:5977-1666720800-1666731600@cudaridgewines.com
SUMMARY:Winemaker Dinner at Zephyr Bar & Grill Brentwood
DESCRIPTION:Join us for a fun-filled evening with wine\, food\, and friends at the Cuda Ridge Wines and Zephyr Bar & Grill Winemaker Dinner! This five-course wine-paired dinner is scheduled for Tuesday\, October 25th at 6:00 pm. Our winemaker has worked closes with the Head Chef of Zephyr to come up with a menu that we are sure you will love! \nTo make your reservation today at Zephyr Bar & Grill
URL:https://cudaridgewines.com/event/winemaker-dinner-at-zephyr-bar-grill-brentwood/
CATEGORIES:Winery Events
END:VEVENT
BEGIN:VEVENT
DTSTART;TZID=America/Los_Angeles:20221030T120000
DTEND;TZID=America/Los_Angeles:20221030T163000
DTSTAMP:20260420T073943
CREATED:20220923T223541Z
LAST-MODIFIED:20221013T204110Z
UID:6007-1667131200-1667147400@cudaridgewines.com
SUMMARY:Halloween Bash with Loren O
DESCRIPTION:Calling all ghouls and goblins\, join us on Sunday\, October 30th for a chill Halloween Bash. We will have Loren O performing from 12:30 pm – 4:00 pm. No reservations are needed the event is first come first serve. The doors open at 12:00pm and music will start at 12:30 pm. Costumes are not required but are encouraged! We will not have a food truck for this event so please feel free to bring your own snacks.
URL:https://cudaridgewines.com/event/open-for-wine-tasting-157/
CATEGORIES:Winery Events
END:VEVENT
END:VCALENDAR