BEGIN:VCALENDAR
VERSION:2.0
PRODID:-//Cuda Ridge Wines - ECPv6.15.14//NONSGML v1.0//EN
CALSCALE:GREGORIAN
METHOD:PUBLISH
X-WR-CALNAME:Cuda Ridge Wines
X-ORIGINAL-URL:https://cudaridgewines.com
X-WR-CALDESC:Events for Cuda Ridge Wines
REFRESH-INTERVAL;VALUE=DURATION:PT1H
X-Robots-Tag:noindex
X-PUBLISHED-TTL:PT1H
BEGIN:VTIMEZONE
TZID:America/Los_Angeles
BEGIN:DAYLIGHT
TZOFFSETFROM:-0800
TZOFFSETTO:-0700
TZNAME:PDT
DTSTART:20210314T100000
END:DAYLIGHT
BEGIN:STANDARD
TZOFFSETFROM:-0700
TZOFFSETTO:-0800
TZNAME:PST
DTSTART:20211107T090000
END:STANDARD
BEGIN:DAYLIGHT
TZOFFSETFROM:-0800
TZOFFSETTO:-0700
TZNAME:PDT
DTSTART:20220313T100000
END:DAYLIGHT
BEGIN:STANDARD
TZOFFSETFROM:-0700
TZOFFSETTO:-0800
TZNAME:PST
DTSTART:20221106T090000
END:STANDARD
BEGIN:DAYLIGHT
TZOFFSETFROM:-0800
TZOFFSETTO:-0700
TZNAME:PDT
DTSTART:20230312T100000
END:DAYLIGHT
BEGIN:STANDARD
TZOFFSETFROM:-0700
TZOFFSETTO:-0800
TZNAME:PST
DTSTART:20231105T090000
END:STANDARD
END:VTIMEZONE
BEGIN:VEVENT
DTSTART;TZID=America/Los_Angeles:20220610T170000
DTEND;TZID=America/Los_Angeles:20220610T193000
DTSTAMP:20260420T152614
CREATED:20220421T214649Z
LAST-MODIFIED:20220607T222937Z
UID:5462-1654880400-1654889400@cudaridgewines.com
SUMMARY:Music on the Vineyard Patio
DESCRIPTION:Join us on our Vineyard Patio for an evening of live music with special guests Steve Faria & Nadia. There is a two (2) bottle minimum per table. We will have a food truck\, Smoked Seduction on-site serving up some tasty BBQ treats. *Please no outside food* Reservation available on our website visit: Cuda Ridge Wines! 
URL:https://cudaridgewines.com/event/music-on-the-vineyard-patio-3/
CATEGORIES:Winery Events
END:VEVENT
BEGIN:VEVENT
DTSTART;TZID=America/Los_Angeles:20220619T120000
DTEND;TZID=America/Los_Angeles:20220619T163000
DTSTAMP:20260420T152614
CREATED:20220516T201539Z
LAST-MODIFIED:20220605T000840Z
UID:5548-1655640000-1655656200@cudaridgewines.com
SUMMARY:Cuda Ridge Wines Father's Day BBQ
DESCRIPTION:It’s time for the dads to get spoiled! Celebrate Father’s Day with Cuda Ridge and Kirix Choma for an afternoon filled with family\, barbecue\, and award-winning wines! For reservations visit: Cuda Ridge Wines  \n 
URL:https://cudaridgewines.com/event/cuda-ridge-wines-fathers-day-bbq/
CATEGORIES:Winery Events
END:VEVENT
BEGIN:VEVENT
DTSTART;TZID=America/Los_Angeles:20220625T120000
DTEND;TZID=America/Los_Angeles:20220625T163000
DTSTAMP:20260420T152614
CREATED:20220513T165650Z
LAST-MODIFIED:20220513T165650Z
UID:5531-1656158400-1656174600@cudaridgewines.com
SUMMARY:Cuda Cadre Club Release - Closed to the Public
DESCRIPTION:We will be closed to the public for our Cuda Cadre Club Release Weekend.  We apologize for the inconvenience.  For information about our club visit: Cuda Cadre Wine Club  \nCheers!
URL:https://cudaridgewines.com/event/cuda-cadre-club-release-closed-to-the-public/
CATEGORIES:Winery Events
END:VEVENT
BEGIN:VEVENT
DTSTART;TZID=America/Los_Angeles:20220626T120000
DTEND;TZID=America/Los_Angeles:20220626T163000
DTSTAMP:20260420T152614
CREATED:20220513T165733Z
LAST-MODIFIED:20220513T165733Z
UID:5534-1656244800-1656261000@cudaridgewines.com
SUMMARY:Cuda Cadre Club Release - Closed to the Public
DESCRIPTION:We will be closed to the public for our Cuda Cadre Club Release Weekend.  We apologize for the inconvenience.  For information about our club visit: Cuda Cadre Wine Club  \nCheers!
URL:https://cudaridgewines.com/event/cuda-cadre-club-release-closed-to-the-public-2/
CATEGORIES:Winery Events
END:VEVENT
BEGIN:VEVENT
DTSTART;TZID=America/Los_Angeles:20220629T183000
DTEND;TZID=America/Los_Angeles:20220629T203000
DTSTAMP:20260420T152614
CREATED:20220623T185607Z
LAST-MODIFIED:20220623T185607Z
UID:5679-1656527400-1656534600@cudaridgewines.com
SUMMARY:Cuda Ridge Winemaker Dinner at Pairings Bar and Restaurant
DESCRIPTION:Please join us for our winemaker dinner at Pairings Wine Bar and Restaurant on June 29th at 6:30 pm.  Our winemaker worked with the Pairings staff in coming up with this amazing Five Course dinner.   Each of these courses is amazing on there own\, and the pairings bring this epicurean experience to a new level! Tickets are $99.00 per person\, tax\, and gratuity not included. For reservations call pairings at 925.398.8846
URL:https://cudaridgewines.com/event/cuda-ridge-winemaker-dinner-at-pairings-bar-and-restaurant/
CATEGORIES:Winery Events
END:VEVENT
END:VCALENDAR