BEGIN:VCALENDAR
VERSION:2.0
PRODID:-//Cuda Ridge Wines - ECPv6.15.14//NONSGML v1.0//EN
CALSCALE:GREGORIAN
METHOD:PUBLISH
X-ORIGINAL-URL:https://cudaridgewines.com
X-WR-CALDESC:Events for Cuda Ridge Wines
REFRESH-INTERVAL;VALUE=DURATION:PT1H
X-Robots-Tag:noindex
X-PUBLISHED-TTL:PT1H
BEGIN:VTIMEZONE
TZID:America/Los_Angeles
BEGIN:DAYLIGHT
TZOFFSETFROM:-0800
TZOFFSETTO:-0700
TZNAME:PDT
DTSTART:20210314T100000
END:DAYLIGHT
BEGIN:STANDARD
TZOFFSETFROM:-0700
TZOFFSETTO:-0800
TZNAME:PST
DTSTART:20211107T090000
END:STANDARD
BEGIN:DAYLIGHT
TZOFFSETFROM:-0800
TZOFFSETTO:-0700
TZNAME:PDT
DTSTART:20220313T100000
END:DAYLIGHT
BEGIN:STANDARD
TZOFFSETFROM:-0700
TZOFFSETTO:-0800
TZNAME:PST
DTSTART:20221106T090000
END:STANDARD
BEGIN:DAYLIGHT
TZOFFSETFROM:-0800
TZOFFSETTO:-0700
TZNAME:PDT
DTSTART:20230312T100000
END:DAYLIGHT
BEGIN:STANDARD
TZOFFSETFROM:-0700
TZOFFSETTO:-0800
TZNAME:PST
DTSTART:20231105T090000
END:STANDARD
END:VTIMEZONE
BEGIN:VEVENT
DTSTART;TZID=America/Los_Angeles:20220501T120000
DTEND;TZID=America/Los_Angeles:20220501T163000
DTSTAMP:20260420T170417
CREATED:20220214T180136Z
LAST-MODIFIED:20220408T213535Z
UID:5284-1651406400-1651422600@cudaridgewines.com
SUMMARY:2021 Margo Rosé Release
DESCRIPTION:“Vin Gris with me!” we are so excited to release our third vintage of Margo – a Rosé of Merlot & Cabernet Sauvignon! Our 2021 Margo will be featured on our five wine flight! We will have food trucks each day: Saturday – Double Barrel & Sunday – Cousins Main Lobster! *Please\, no outside food* \nTo make a reservation\, visit our reservation page\, and select 2021 Margo Rosé Release!  
URL:https://cudaridgewines.com/event/2021-rose-release-2/
CATEGORIES:Winery Events
END:VEVENT
BEGIN:VEVENT
DTSTART;TZID=America/Los_Angeles:20220514T100000
DTEND;TZID=America/Los_Angeles:20220514T170000
DTSTAMP:20260420T170417
CREATED:20220505T231709Z
LAST-MODIFIED:20220505T231709Z
UID:5512-1652522400-1652547600@cudaridgewines.com
SUMMARY:Livermore Valley Street Fest
DESCRIPTION:One of the longest-running celebrations of wine\, craft brew\, arts\, crafts\, shopping\, dining\, entertainment & hometown charm in the East Bay! Join Cuda Ridge Wines at Livermore Valley Street Festival! We will be pouring downtown from 10:30 am – 4:30 pm at the lounges! Tickets for the event are available at Livermore Downtown Street Fest!
URL:https://cudaridgewines.com/event/livermore-valley-street-fest/
CATEGORIES:Winery Events
END:VEVENT
BEGIN:VEVENT
DTSTART;TZID=America/Los_Angeles:20220515T100000
DTEND;TZID=America/Los_Angeles:20220515T170000
DTSTAMP:20260420T170417
CREATED:20220505T231820Z
LAST-MODIFIED:20220505T231820Z
UID:5514-1652608800-1652634000@cudaridgewines.com
SUMMARY:Livermore Valley Street Fest
DESCRIPTION:One of the longest-running celebrations of wine\, craft brew\, arts\, crafts\, shopping\, dining\, entertainment & hometown charm in the East Bay! Join Cuda Ridge Wines at Livermore Valley Street Festival! We will be pouring downtown from 10:30 am – 4:30 pm at the lounges! Tickets for the event are available at Livermore Downtown Street Fest!
URL:https://cudaridgewines.com/event/livermore-valley-street-fest-2/
CATEGORIES:Winery Events
END:VEVENT
BEGIN:VEVENT
DTSTART;TZID=America/Los_Angeles:20220520T170000
DTEND;TZID=America/Los_Angeles:20220520T193000
DTSTAMP:20260420T170417
CREATED:20220408T225717Z
LAST-MODIFIED:20220504T222023Z
UID:5410-1653066000-1653075000@cudaridgewines.com
SUMMARY:Music on the Vineyard Patio
DESCRIPTION:Join us on our Vineyard Patio for an evening of live music with special guest Honky Tonk Heros. There is a two (2) bottle minimum per table. We will have a Luka’s Pizza food truck on-site serving up some tasty treats. *Please no outside food* \n\nMake your reservation here! As our music events sell out fast
URL:https://cudaridgewines.com/event/music-on-the-vineyard-patio-2/
CATEGORIES:Winery Events
END:VEVENT
END:VCALENDAR