BEGIN:VCALENDAR
VERSION:2.0
PRODID:-//Cuda Ridge Wines - ECPv6.15.14//NONSGML v1.0//EN
CALSCALE:GREGORIAN
METHOD:PUBLISH
X-WR-CALNAME:Cuda Ridge Wines
X-ORIGINAL-URL:https://cudaridgewines.com
X-WR-CALDESC:Events for Cuda Ridge Wines
REFRESH-INTERVAL;VALUE=DURATION:PT1H
X-Robots-Tag:noindex
X-PUBLISHED-TTL:PT1H
BEGIN:VTIMEZONE
TZID:America/Los_Angeles
BEGIN:DAYLIGHT
TZOFFSETFROM:-0800
TZOFFSETTO:-0700
TZNAME:PDT
DTSTART:20210314T100000
END:DAYLIGHT
BEGIN:STANDARD
TZOFFSETFROM:-0700
TZOFFSETTO:-0800
TZNAME:PST
DTSTART:20211107T090000
END:STANDARD
BEGIN:DAYLIGHT
TZOFFSETFROM:-0800
TZOFFSETTO:-0700
TZNAME:PDT
DTSTART:20220313T100000
END:DAYLIGHT
BEGIN:STANDARD
TZOFFSETFROM:-0700
TZOFFSETTO:-0800
TZNAME:PST
DTSTART:20221106T090000
END:STANDARD
BEGIN:DAYLIGHT
TZOFFSETFROM:-0800
TZOFFSETTO:-0700
TZNAME:PDT
DTSTART:20230312T100000
END:DAYLIGHT
BEGIN:STANDARD
TZOFFSETFROM:-0700
TZOFFSETTO:-0800
TZNAME:PST
DTSTART:20231105T090000
END:STANDARD
END:VTIMEZONE
BEGIN:VEVENT
DTSTART;TZID=America/Los_Angeles:20220401T190000
DTEND;TZID=America/Los_Angeles:20220401T210000
DTSTAMP:20260420T184702
CREATED:20220226T181804Z
LAST-MODIFIED:20220309T233019Z
UID:5305-1648839600-1648846800@cudaridgewines.com
SUMMARY:Wine & Cheese Pairing featuring Cuda Ridge Wines and The Cheese Parlor
DESCRIPTION:Cuda Ridge Wines and The Cheese Parlor have teamed up for a Wine and Cheese pairing at The Cheese Parlor’s newly opened location at 158 Maple St in Livermore. We have scheduled two nights to choose from\, Thursday\, March 24th from 6:30 – 8:30 PM or Friday\, April 1st from 7:00 – 9:00 PM. \nThe Cheese Parlor’s\, Brandon Wood\, will hold a seminar on four kinds of cheese paired with the Cuda Ridge Wines. Cuda Ridge staff will be on hand to discuss the wines. The pairings will include four 2- ounce pours of Cuda Ridge Wines (all red) accompanied with nice size cheese portions. The seminar/discussion will last approximately 1 hour and you are welcome to stay to enjoy the evening with socialization. There will be prepared Charcuterie Boards\, Cheese\, and Wine available for take-out and/or onsite consumption\, for an additional cost. \nTickets are available through Eventbrite here: Cuda Ridge Wine & Cheese Pairing
URL:https://cudaridgewines.com/event/evening-of-wine-cheese-pairing-seminar-featuring-cuda-ridge-wines-and-the-cheese-parlor/
CATEGORIES:Winery Events
END:VEVENT
BEGIN:VEVENT
DTSTART;TZID=America/Los_Angeles:20220410T120000
DTEND;TZID=America/Los_Angeles:20220410T163000
DTSTAMP:20260420T184702
CREATED:20220317T214935Z
LAST-MODIFIED:20220317T214935Z
UID:5362-1649592000-1649608200@cudaridgewines.com
SUMMARY:Tasting Room Closed
DESCRIPTION:The tasting room will be closed and will reopen Friday\, April 15th. We apologize for the inconvenience. To schedule a tasting for another time\, please visit Cuda Ridge 
URL:https://cudaridgewines.com/event/tasting-room-closed/
CATEGORIES:Winery Events
END:VEVENT
BEGIN:VEVENT
DTSTART;TZID=America/Los_Angeles:20220422T170000
DTEND;TZID=America/Los_Angeles:20220422T193000
DTSTAMP:20260420T184702
CREATED:20220117T235119Z
LAST-MODIFIED:20220408T194556Z
UID:5133-1650646800-1650655800@cudaridgewines.com
SUMMARY:Music on the Vineyard Patio
DESCRIPTION:Please join Michelle Lambert for an evening of Live Music\, Wine\, and Fun on our vineyard patio! Food Vendor Big C BBQ with be serving up some smoked treats! *SOLD OUT*
URL:https://cudaridgewines.com/event/music-on-the-vineyard-patio/
CATEGORIES:Winery Events
END:VEVENT
BEGIN:VEVENT
DTSTART;TZID=America/Los_Angeles:20220430T120000
DTEND;TZID=America/Los_Angeles:20220430T163000
DTSTAMP:20260420T184702
CREATED:20220214T180015Z
LAST-MODIFIED:20220408T213425Z
UID:5282-1651320000-1651336200@cudaridgewines.com
SUMMARY:2021 Margo Rosé Release
DESCRIPTION:“Vin Gris with me!” we are so excited to release our third vintage of Margo – a Rosé of Merlot & Cabernet Sauvignon! Our 2021 Margo will be featured on our five wine flight! We will have food trucks each day: Saturday – Double Barrel & Sunday – Cousins Main Lobster! *Please\, no outside food* \nTo make a reservation\, visit our reservation page\, and select 2021 Margo Rosé Release!  
URL:https://cudaridgewines.com/event/2021-rose-release/
CATEGORIES:Winery Events
END:VEVENT
END:VCALENDAR